BEGIN:VCALENDAR
VERSION:2.0
PRODID:-//Victoria Society for Children with Autism - ECPv6.15.20//NONSGML v1.0//EN
CALSCALE:GREGORIAN
METHOD:PUBLISH
X-ORIGINAL-URL:https://victoriaautism.ca
X-WR-CALDESC:Events for Victoria Society for Children with Autism
REFRESH-INTERVAL;VALUE=DURATION:PT1H
X-Robots-Tag:noindex
X-PUBLISHED-TTL:PT1H
BEGIN:VTIMEZONE
TZID:America/Vancouver
BEGIN:DAYLIGHT
TZOFFSETFROM:-0800
TZOFFSETTO:-0700
TZNAME:PDT
DTSTART:20200308T100000
END:DAYLIGHT
BEGIN:STANDARD
TZOFFSETFROM:-0700
TZOFFSETTO:-0800
TZNAME:PST
DTSTART:20201101T090000
END:STANDARD
BEGIN:DAYLIGHT
TZOFFSETFROM:-0800
TZOFFSETTO:-0700
TZNAME:PDT
DTSTART:20210314T100000
END:DAYLIGHT
BEGIN:STANDARD
TZOFFSETFROM:-0700
TZOFFSETTO:-0800
TZNAME:PST
DTSTART:20211107T090000
END:STANDARD
BEGIN:DAYLIGHT
TZOFFSETFROM:-0800
TZOFFSETTO:-0700
TZNAME:PDT
DTSTART:20220313T100000
END:DAYLIGHT
BEGIN:STANDARD
TZOFFSETFROM:-0700
TZOFFSETTO:-0800
TZNAME:PST
DTSTART:20221106T090000
END:STANDARD
END:VTIMEZONE
BEGIN:VEVENT
DTSTART;TZID=America/Vancouver:20211027T183000
DTEND;TZID=America/Vancouver:20211027T193000
DTSTAMP:20260418T212528
CREATED:20211011T052751Z
LAST-MODIFIED:20211011T052919Z
UID:2182-1635359400-1635363000@victoriaautism.ca
SUMMARY:Halloween Craft Night with Aryn Franklin
DESCRIPTION:Celebrate Halloween with VSCA! Aryn will be leading us in a seasonal Halloween Craft. Register on EventBrite for your crafting kit!
URL:https://victoriaautism.ca/event/halloween-craft-night-with-aryn-franklin/
ATTACH;FMTTYPE=image/jpeg:https://victoriaautism.ca/wp-content/uploads/2021/10/halloween-craft.jpg
END:VEVENT
BEGIN:VEVENT
DTSTART;TZID=America/Vancouver:20211022T160000
DTEND;TZID=America/Vancouver:20211022T173000
DTSTAMP:20260418T212528
CREATED:20211011T035533Z
LAST-MODIFIED:20211011T035533Z
UID:2172-1634918400-1634923800@victoriaautism.ca
SUMMARY:Among Us Game Night
DESCRIPTION:Join us on Friday October 22nd to play Among Us with other VSCA kids! Invite your friends\, bring some snacks\, and let’s hang out together!
URL:https://victoriaautism.ca/event/among-us-game-night-3/
ATTACH;FMTTYPE=image/jpeg:https://victoriaautism.ca/wp-content/uploads/2021/01/among-us.jpg
END:VEVENT
BEGIN:VEVENT
DTSTART;TZID=America/Vancouver:20211021T190000
DTEND;TZID=America/Vancouver:20211021T203000
DTSTAMP:20260418T212528
CREATED:20210603T230544Z
LAST-MODIFIED:20210603T230544Z
UID:1973-1634842800-1634848200@victoriaautism.ca
SUMMARY:Parents' Coffee Night
DESCRIPTION:Join us at our virtual coffee night to connect with other caregivers to autistic children. This is an opportunity for parents and caregivers to come together as a community\, trade stories and tips\, and provide support and encouragement for one another. Register in advance on EventBrite to receive the meeting link.
URL:https://victoriaautism.ca/event/parents-coffee-night-9/
ATTACH;FMTTYPE=image/jpeg:https://victoriaautism.ca/wp-content/uploads/2021/06/CR_unsplash_300.jpg
END:VEVENT
BEGIN:VEVENT
DTSTART;TZID=America/Vancouver:20211019T150000
DTEND;TZID=America/Vancouver:20211019T180000
DTSTAMP:20260418T212528
CREATED:20211011T055024Z
LAST-MODIFIED:20211011T055024Z
UID:2186-1634655600-1634666400@victoriaautism.ca
SUMMARY:Resource Library Opening
DESCRIPTION:Come see us at the Resource Library! Time slots can be booked in advance on Eventbrite\, and check out our catalogue at https://victoriaautism.ca/library/
URL:https://victoriaautism.ca/event/resource-library-opening/
ATTACH;FMTTYPE=image/jpeg:https://victoriaautism.ca/wp-content/uploads/2021/10/matthew-feeney-Nwkh-n6l25w-unsplash-1.jpg
END:VEVENT
BEGIN:VEVENT
DTSTART;TZID=America/Vancouver:20211008T160000
DTEND;TZID=America/Vancouver:20211008T173000
DTSTAMP:20260418T212528
CREATED:20210625T001540Z
LAST-MODIFIED:20211007T041118Z
UID:2068-1633708800-1633714200@victoriaautism.ca
SUMMARY:Minecraft Afternoon
DESCRIPTION:Hang out\, explore\, and play some minecraft games with others in the Victoria Autism group. Please register for a free ticket on Eventbrite so that we can send you the google meet and minecraft server details. \n If you would like tech support please feel free to email us prior to the event at support@victoriaautism.com \n***To maintain a safe\, fun\, and inclusive environment for all ages\, words that attack such as “stupid\, dumb\, mental\, etc.” will NOT be tolerated in the chat. Use of hurtful or unkind language will lead to removal from the meeting. We want all of our members and friends to be able to enjoy this social event\, so please be considerate.
URL:https://victoriaautism.ca/event/minecraft-afternoon-11/
ATTACH;FMTTYPE=image/jpeg:https://victoriaautism.ca/wp-content/uploads/2021/06/SS_MC1.jpg
END:VEVENT
BEGIN:VEVENT
DTSTART;TZID=America/Vancouver:20210924T163000
DTEND;TZID=America/Vancouver:20210924T180000
DTSTAMP:20260418T212528
CREATED:20210911T202408Z
LAST-MODIFIED:20210911T202408Z
UID:2162-1632501000-1632506400@victoriaautism.ca
SUMMARY:Among Us Game Night
DESCRIPTION:Join us on Friday September 24th from 4:30 -6:00pm to play Among Us with other VSCA kids! Invite your friends\, bring some snacks\, and let’s hang out together!
URL:https://victoriaautism.ca/event/among-us-game-night-2/
ATTACH;FMTTYPE=image/jpeg:https://victoriaautism.ca/wp-content/uploads/2021/01/minecraft3.jpeg
END:VEVENT
BEGIN:VEVENT
DTSTART;TZID=America/Vancouver:20210923T183000
DTEND;TZID=America/Vancouver:20210923T193000
DTSTAMP:20260418T212528
CREATED:20210911T201912Z
LAST-MODIFIED:20210911T201912Z
UID:2160-1632421800-1632425400@victoriaautism.ca
SUMMARY:Craft Night with Katrina Mallon
DESCRIPTION:Visit Victoria Autism’s virtual art studio for an evening of crafting fun with host Katrina Mallon! This month’s craft has yet to be announced – keep an eye on our social media for updates. \nAs always\, craft supplies will be delivered to participants in the lead up to the event. Register early to secure your spot!
URL:https://victoriaautism.ca/event/craft-night-with-katrina-mallon-2/
ATTACH;FMTTYPE=image/jpeg:https://victoriaautism.ca/wp-content/uploads/2021/07/sigmund-TJxotQTUr8o-unsplash.jpg
END:VEVENT
BEGIN:VEVENT
DTSTART;TZID=America/Vancouver:20210916T190000
DTEND;TZID=America/Vancouver:20210916T203000
DTSTAMP:20260418T212528
CREATED:20210603T230451Z
LAST-MODIFIED:20210603T230451Z
UID:1972-1631818800-1631824200@victoriaautism.ca
SUMMARY:Parents' Coffee Night
DESCRIPTION:Join us at our virtual coffee night to connect with other caregivers to autistic children. This is an opportunity for parents and caregivers to come together as a community\, trade stories and tips\, and provide support and encouragement for one another. Register in advance on EventBrite to receive the meeting link.
URL:https://victoriaautism.ca/event/parents-coffee-night-8/
ATTACH;FMTTYPE=image/jpeg:https://victoriaautism.ca/wp-content/uploads/2021/06/CR_unsplash_300.jpg
END:VEVENT
BEGIN:VEVENT
DTSTART;TZID=America/Vancouver:20210913T163000
DTEND;TZID=America/Vancouver:20210913T163000
DTSTAMP:20260418T212528
CREATED:20210911T201459Z
LAST-MODIFIED:20210911T201459Z
UID:2158-1631550600-1631550600@victoriaautism.ca
SUMMARY:Minecraft Afternoon
DESCRIPTION:Hang out\, explore\, and play some minecraft games with others in the Victoria Autism group. Please register for a free ticket on Eventbrite so that we can send you the google meet and minecraft server details. \n If you would like tech support please feel free to email us prior to the event at support@victoriaautism.com \n***To maintain a safe\, fun\, and inclusive environment for all ages\, words that attack such as “stupid\, dumb\, mental\, etc.” will NOT be tolerated in the chat. Use of hurtful or unkind language will lead to removal from the meeting. We want all of our members and friends to be able to enjoy this social event\, so please be considerate.
URL:https://victoriaautism.ca/event/minecraft-afternoon-12/
ATTACH;FMTTYPE=image/jpeg:https://victoriaautism.ca/wp-content/uploads/2021/06/SS_MC1.jpg
END:VEVENT
BEGIN:VEVENT
DTSTART;TZID=America/Vancouver:20210910T160000
DTEND;TZID=America/Vancouver:20210910T173000
DTSTAMP:20260418T212528
CREATED:20210625T001537Z
LAST-MODIFIED:20210625T001537Z
UID:2067-1631289600-1631295000@victoriaautism.ca
SUMMARY:Minecraft Afternoon
DESCRIPTION:Hang out\, explore\, and play some minecraft games with others in the Victoria Autism group. Please register for a free ticket on Eventbrite so that we can send you the google meet and minecraft server details. \n If you would like tech support please feel free to email us prior to the event at support@victoriaautism.com \n***To maintain a safe\, fun\, and inclusive environment for all ages\, words that attack such as “stupid\, dumb\, mental\, etc.” will NOT be tolerated in the chat. Use of hurtful or unkind language will lead to removal from the meeting. We want all of our members and friends to be able to enjoy this social event\, so please be considerate.
URL:https://victoriaautism.ca/event/minecraft-afternoon-10/
ATTACH;FMTTYPE=image/jpeg:https://victoriaautism.ca/wp-content/uploads/2021/06/SS_MC1.jpg
END:VEVENT
BEGIN:VEVENT
DTSTART;TZID=America/Vancouver:20210901T183000
DTEND;TZID=America/Vancouver:20210901T203000
DTSTAMP:20260418T212528
CREATED:20210815T000812Z
LAST-MODIFIED:20210901T214454Z
UID:2149-1630521000-1630528200@victoriaautism.ca
SUMMARY:Parent/Caregiver Outdoor Barbecue
DESCRIPTION:Join VSCA in person for an outdoor Parent and Caregiver Barbecue at Rutledge Park. In the interests of remaining COVID-cautious\, we ask that you bring your own seating and be prepared to social distance. Burgers and drinks will be provided! Please be sure to register in advance so that we know how many people to expect.
URL:https://victoriaautism.ca/event/parent-caregiver-outdoor-barbecue/
ATTACH;FMTTYPE=image/jpeg:https://victoriaautism.ca/wp-content/uploads/2021/08/bbq-pic.jpg
END:VEVENT
BEGIN:VEVENT
DTSTART;TZID=America/Vancouver:20210831T150000
DTEND;TZID=America/Vancouver:20210831T180000
DTSTAMP:20260418T212528
CREATED:20210814T233853Z
LAST-MODIFIED:20210814T233853Z
UID:2147-1630422000-1630432800@victoriaautism.ca
SUMMARY:Library Opening
DESCRIPTION:Book your time slot to visit our resource library!\n\n\nOur library of books and equipment is open! To borrow or return books\, please register on eventbrite to come visit us at #602\, 620 View Street. Our catalogues are linked on the library page here: https://victoriaautism.ca/library/ \n\n\n\n\n\n\n\n\nPlease note that as our library space is quite small\, we will be limited to one party in the library at a time and requesting that masks be worn. Please come prepared to wait 15-20 minutes if necessary! If you would like to borrow or return a large item\, email us in advance at librarian@victoriaautism.com so that we can make storage arrangements.
URL:https://victoriaautism.ca/event/library-opening/
ATTACH;FMTTYPE=image/jpeg:https://victoriaautism.ca/wp-content/uploads/2021/02/storytime.jpeg
END:VEVENT
BEGIN:VEVENT
DTSTART;TZID=America/Vancouver:20210825T183000
DTEND;TZID=America/Vancouver:20210825T190000
DTSTAMP:20260418T212528
CREATED:20210806T164401Z
LAST-MODIFIED:20210810T205737Z
UID:2016-1629916200-1629918000@victoriaautism.ca
SUMMARY:Music Event: Singing
DESCRIPTION:Join us live for the final of 3 very special music sessions with Noelle Burch\, lead singer of The Promised. This month she will be leading us in song!  \nNoelle will provide a class schedule with achievement points for your child to reach! Noelle will walk us through some basic musical concepts and familiar songs. This event is geared for beginners\, so no experience or equipment is necessary! Ages 5 and up welcome. Parental supervision is requested.  \nSpace is limited so register early by clicking on the “view event website” button to the right. \nCheck out Noelle’s music here: https://thepromisedmusic.com/
URL:https://victoriaautism.ca/event/music-event-singing-2/
ATTACH;FMTTYPE=image/jpeg:https://victoriaautism.ca/wp-content/uploads/2021/06/bellava-g-mrBZCt-fI3A-unsplash.jpg
END:VEVENT
BEGIN:VEVENT
DTSTART;TZID=America/Vancouver:20210825T163000
DTEND;TZID=America/Vancouver:20210825T180000
DTSTAMP:20260418T212528
CREATED:20210810T014814Z
LAST-MODIFIED:20210810T014908Z
UID:2143-1629909000-1629914400@victoriaautism.ca
SUMMARY:Among Us Game Night
DESCRIPTION:Log on to play Among Us with other VSCA kids! Invite your friends\, bring some snacks\, and let’s hang out together! \nRegister on Eventbrite to receive the meeting link.
URL:https://victoriaautism.ca/event/among-us-game-night/
ATTACH;FMTTYPE=image/jpeg:https://victoriaautism.ca/wp-content/uploads/2021/01/among-us.jpg
END:VEVENT
BEGIN:VEVENT
DTSTART;TZID=America/Vancouver:20210819T190000
DTEND;TZID=America/Vancouver:20210819T200000
DTSTAMP:20260418T212528
CREATED:20210603T230419Z
LAST-MODIFIED:20210806T163753Z
UID:1970-1629399600-1629403200@victoriaautism.ca
SUMMARY:Parents' Coffee Night
DESCRIPTION:Join us at our virtual coffee night to connect with other caregivers to autistic children. This is an opportunity for parents and caregivers to come together as a community\, trade stories and tips\, and provide support and encouragement for one another. Register in advance on EventBrite to receive the meeting link.
URL:https://victoriaautism.ca/event/parents-coffee-night-7/
ATTACH;FMTTYPE=image/jpeg:https://victoriaautism.ca/wp-content/uploads/2021/06/CR_unsplash_300.jpg
END:VEVENT
BEGIN:VEVENT
DTSTART;TZID=America/Vancouver:20210818T183000
DTEND;TZID=America/Vancouver:20210818T193000
DTSTAMP:20260418T212528
CREATED:20210721T173525Z
LAST-MODIFIED:20210804T002706Z
UID:2130-1629311400-1629315000@victoriaautism.ca
SUMMARY:Craft Night with Aryn Franklin
DESCRIPTION:Join Victoria Autism in the virtual art studio for another night of creative fun led by Aryn Franklin of Wild Seeds SLP. This month we will be making sun catchers! As always\, supplies will be delivered to participants ahead of time. Please be sure to supply your complete address upon registration so that we can get your kit to you! One ticket = one supply kit. Please note that supplies can only be delivered to participants in the Capital Regional District and Sooke. Participants from outside the area are welcome to follow along using their own supplies; please contact us to request a supply list.
URL:https://victoriaautism.ca/event/craft-night-with-aryn-franklin-3/
ATTACH;FMTTYPE=image/jpeg:https://victoriaautism.ca/wp-content/uploads/2021/07/sigmund-TJxotQTUr8o-unsplash.jpg
END:VEVENT
BEGIN:VEVENT
DTSTART;TZID=America/Vancouver:20210813T163000
DTEND;TZID=America/Vancouver:20210813T180000
DTSTAMP:20260418T212528
CREATED:20210625T001530Z
LAST-MODIFIED:20210806T163656Z
UID:2065-1628872200-1628877600@victoriaautism.ca
SUMMARY:Minecraft Afternoon
DESCRIPTION:Hang out\, explore\, and play some minecraft games with others in the Victoria Autism group. Please register for a free ticket on Eventbrite so that we can send you the google meet and minecraft server details. \n If you would like tech support please feel free to email us prior to the event at support@victoriaautism.com \n***To maintain a safe\, fun\, and inclusive environment for all ages\, words that attack such as “stupid\, dumb\, mental\, etc.” will NOT be tolerated in the chat. Use of hurtful or unkind language will lead to removal from the meeting. We want all of our members and friends to be able to enjoy this social event\, so please be considerate.
URL:https://victoriaautism.ca/event/minecraft-afternoon-9/
ATTACH;FMTTYPE=image/jpeg:https://victoriaautism.ca/wp-content/uploads/2021/06/SS_MC1.jpg
END:VEVENT
BEGIN:VEVENT
DTSTART;TZID=America/Vancouver:20210729T183000
DTEND;TZID=America/Vancouver:20210729T190000
DTSTAMP:20260418T212528
CREATED:20210624T222827Z
LAST-MODIFIED:20210624T222827Z
UID:2012-1627583400-1627585200@victoriaautism.ca
SUMMARY:Music Event: Theory
DESCRIPTION:Join us live for the second of 3 very special music sessions with Nicole Burch\, lead singer of The Promised. This month she will be leading us in a music theory workshop\, which is learning about how music looks visually on paper. \nNoelle has provided a class schedule with achievement points for your child to reach! We will be providing a very special sticker page for each participant. Participants will earn stickers for each class segment. This workshop is geared towards ages 5 and up\, but all are welcome. Parental supervision is requested for this event. \nMaterials for this event will be dropped off by our hardworking volunteers prior to the day. Please note that materials can only be provided within the CRD. \nSpace is limited so register early by clicking on the “view event website” button to the right or click here to register \nCheck out Noelle’s music here: https://thepromisedmusic.com/
URL:https://victoriaautism.ca/event/music-event-theory/
ATTACH;FMTTYPE=image/jpeg:https://victoriaautism.ca/wp-content/uploads/2021/06/weston-mackinnon-3pCRW_JRKM8-unsplash.jpg
END:VEVENT
BEGIN:VEVENT
DTSTART;TZID=America/Vancouver:20210723T160000
DTEND;TZID=America/Vancouver:20210723T173000
DTSTAMP:20260418T212528
CREATED:20210625T173732Z
LAST-MODIFIED:20210625T173854Z
UID:2073-1627056000-1627061400@victoriaautism.ca
SUMMARY:Teens Board Games Afternoon
DESCRIPTION:Join us from 4-5:30 to play some board games together. We will be playing a bunch of games like Codenames\, Taboo\, and Pictionary! Invite your friends\, bring some snacks\, and let’s hang out together! \n If you would like tech support please feel free to email us prior to the event at support@victoriaautism.com \n***To maintain a safe\, fun\, and inclusive environment for all ages\, words that attack such as “stupid\, dumb\, mental\, etc.” will NOT be tolerated in the chat. Use of hurtful or unkind language will lead to removal from the meeting. We want all of our members and friends to be able to enjoy this social event\, so please be considerate.
URL:https://victoriaautism.ca/event/teens-board-games-afternoon/
ATTACH;FMTTYPE=image/jpeg:https://victoriaautism.ca/wp-content/uploads/2021/06/third-serving-0DF7DuMrI9k-unsplash.jpg
END:VEVENT
BEGIN:VEVENT
DTSTART;TZID=America/Vancouver:20210720T183000
DTEND;TZID=America/Vancouver:20210720T193000
DTSTAMP:20260418T212528
CREATED:20210624T222545Z
LAST-MODIFIED:20210624T222545Z
UID:2019-1626805800-1626809400@victoriaautism.ca
SUMMARY:Craft Night with Katrina Mallon
DESCRIPTION:Join Victoria Autism in the virtual art studio for another night of creative fun led by RDI Consultant Katrina Mallon. This month we will be making modge podge tea lights. As always\, supplies will be delivered to participants ahead of time. Please be sure to supply your complete address upon registration so that we can get your kit to you! One ticket = one supply kit. Please note that supplies can only be delivered to participants in the Capital Regional District and Sooke. Participants from outside the area are welcome to follow along using their own supplies; please contact us to request a supply list.  \nFor more information about Katrina\, check out her Facebook page here: https://www.facebook.com/nutritionlearningloveandsuccess
URL:https://victoriaautism.ca/event/craft-night-with-katrina-mallon/
ATTACH;FMTTYPE=image/jpeg:https://victoriaautism.ca/wp-content/uploads/2021/06/20210616_132020.jpg
END:VEVENT
BEGIN:VEVENT
DTSTART;TZID=America/Vancouver:20210715T190000
DTEND;TZID=America/Vancouver:20210715T203000
DTSTAMP:20260418T212528
CREATED:20210603T230351Z
LAST-MODIFIED:20210603T230351Z
UID:1963-1626375600-1626381000@victoriaautism.ca
SUMMARY:Parents' Coffee Night
DESCRIPTION:Join us at our virtual coffee night to connect with other caregivers to autistic children. This is an opportunity for parents and caregivers to come together as a community\, trade stories and tips\, and provide support and encouragement for one another. Register in advance on EventBrite to receive the meeting link.
URL:https://victoriaautism.ca/event/parents-coffee-night-6/
ATTACH;FMTTYPE=image/jpeg:https://victoriaautism.ca/wp-content/uploads/2021/06/CR_unsplash_300.jpg
END:VEVENT
BEGIN:VEVENT
DTSTART;TZID=America/Vancouver:20210713T183000
DTEND;TZID=America/Vancouver:20210713T190000
DTSTAMP:20260418T212528
CREATED:20210604T000941Z
LAST-MODIFIED:20210604T000941Z
UID:1981-1626201000-1626202800@victoriaautism.ca
SUMMARY:Storytime with Dr. Beverley A. Elliott
DESCRIPTION:Join us live for a very special reading of the whimsical children’s book ‘Greyson’s Shoes’ by author Dr. Beverley A. Elliott. \n‘Greyson’s Shoes’ is about a boy named Greyson\, a preschooler with autism\, who views the world through a very different lens. He loves playing outside but hates having his shoes on. His dad wants to make sure that he doesn’t step into something gross\, but Greyson doesn’t understand this. Come follow along on this journey as father and son learn to understand each other. \nFor more information about the book\, please visit https://books.friesenpress.com/store/title/119734000154955643/Dr.-Beverley-A.-Elliott-Greyson%E2%80%99s-Shoes \n \n***This event will be recorded so that members who missed the live broadcast can enjoy the activity with their families. The recording will be hosted on a members-only part of our website for a limited time. Participants who do not wish to be recorded can join the call with their cameras off. Please feel free to turn your video on or off at any time during the activity.
URL:https://victoriaautism.ca/event/storytime-with-dr-beverley-a-elliott/
ATTACH;FMTTYPE=image/jpeg:https://victoriaautism.ca/wp-content/uploads/2021/02/storytime.jpeg
END:VEVENT
BEGIN:VEVENT
DTSTART;TZID=America/Vancouver:20210709T160000
DTEND;TZID=America/Vancouver:20210709T173000
DTSTAMP:20260418T212528
CREATED:20210625T001234Z
LAST-MODIFIED:20210625T001234Z
UID:2002-1625846400-1625851800@victoriaautism.ca
SUMMARY:Minecraft Afternoon
DESCRIPTION:Hang out\, explore\, and play some minecraft games with others in the Victoria Autism group. Please register for a free ticket on Eventbrite so that we can send you the google meet and minecraft server details. \n If you would like tech support please feel free to email us prior to the event at support@victoriaautism.com \n***To maintain a safe\, fun\, and inclusive environment for all ages\, words that attack such as “stupid\, dumb\, mental\, etc.” will NOT be tolerated in the chat. Use of hurtful or unkind language will lead to removal from the meeting. We want all of our members and friends to be able to enjoy this social event\, so please be considerate.
URL:https://victoriaautism.ca/event/minecraft-afternoon-8/
ATTACH;FMTTYPE=image/jpeg:https://victoriaautism.ca/wp-content/uploads/2021/06/SS_MC1.jpg
END:VEVENT
BEGIN:VEVENT
DTSTART;TZID=America/Vancouver:20210625T160000
DTEND;TZID=America/Vancouver:20210625T173000
DTSTAMP:20260418T212528
CREATED:20210105T184303Z
LAST-MODIFIED:20210604T161058Z
UID:1382-1624636800-1624642200@victoriaautism.ca
SUMMARY:Among Us: kids/teen hangout
DESCRIPTION:Sign up for free on Eventbrite to join us for an afternoon of Among Us and a few more games! Register in advance to get a link to the google meet\, and we’ll provide instructions to get you up and running. Bring your favourite drinks and snacks! \nIf you have a game suggestion\, email us at support@victoriaautism.com
URL:https://victoriaautism.ca/event/roblox-games-afternoon-4/
ATTACH;FMTTYPE=image/jpeg:https://victoriaautism.ca/wp-content/uploads/2021/01/among-us.jpg
END:VEVENT
BEGIN:VEVENT
DTSTART;TZID=America/Vancouver:20210624T183000
DTEND;TZID=America/Vancouver:20210624T190000
DTSTAMP:20260418T212528
CREATED:20210614T220255Z
LAST-MODIFIED:20210617T201619Z
UID:1995-1624559400-1624561200@victoriaautism.ca
SUMMARY:Music Event: Singing
DESCRIPTION:Join us live for the first of 3 very special music sessions with Nicole Burch\, lead singer of The Promised. This month she will be leading us in a singing workshop\, so get your voices ready! \nNoelle has provided a class schedule with achievement points for your child to reach! We will be providing a very special sticker page for each participant. Participants will earn stickers for each class segment. Parental supervision is requested for this event. \nMaterials for this event will be dropped off by our hardworking volunteers prior to the day. Please note that materials can only be provided within the CRD. \nSpace is limited so register early by clicking on the “view event website” button to the right or click here to register
URL:https://victoriaautism.ca/event/music-event-singing/
ATTACH;FMTTYPE=image/jpeg:https://victoriaautism.ca/wp-content/uploads/2021/06/robinson-recalde-sT0n-Ie8OKo-unsplash.jpg
END:VEVENT
BEGIN:VEVENT
DTSTART;TZID=America/Vancouver:20210617T190000
DTEND;TZID=America/Vancouver:20210617T203000
DTSTAMP:20260418T212528
CREATED:20210525T215422Z
LAST-MODIFIED:20210603T225350Z
UID:1951-1623956400-1623961800@victoriaautism.ca
SUMMARY:Parents' Coffee Night
DESCRIPTION:Join us at our virtual coffee night to connect with other caregivers to autistic children. This is an opportunity for caregivers to come together as a community to trade stories and tips\, and to provide support and encouragement. Register in advance on EventBrite to receive the meeting link.
URL:https://victoriaautism.ca/event/parents-coffee-night-5/
ATTACH;FMTTYPE=image/jpeg:https://victoriaautism.ca/wp-content/uploads/2021/01/coffeevirtual.jpeg
END:VEVENT
BEGIN:VEVENT
DTSTART;TZID=America/Vancouver:20210611T160000
DTEND;TZID=America/Vancouver:20210611T173000
DTSTAMP:20260418T212528
CREATED:20210105T175536Z
LAST-MODIFIED:20210105T193304Z
UID:1363-1623427200-1623432600@victoriaautism.ca
SUMMARY:Minecraft Afternoon
DESCRIPTION:Hang out\, explore\, and play some minecraft games with others in the Victoria Autism group. Please register for a free ticket on Eventbrite so that we can send you the google meet and minecraft server details.
URL:https://victoriaautism.ca/event/minecraft-afternoon-7/
ATTACH;FMTTYPE=image/jpeg:https://victoriaautism.ca/wp-content/uploads/2021/01/minecraft3.jpeg
END:VEVENT
BEGIN:VEVENT
DTSTART;TZID=America/Vancouver:20210602T183000
DTEND;TZID=America/Vancouver:20210602T193000
DTSTAMP:20260418T212528
CREATED:20210512T213223Z
LAST-MODIFIED:20210512T213223Z
UID:1939-1622658600-1622662200@victoriaautism.ca
SUMMARY:Craft Night with Aryn Franklin
DESCRIPTION:Join Victoria Autism in the virtual art studio for another night of creative fun led by Aryn Franklin of Wild Seeds SLP. This month we will be making tape resist watercolour paintings. As always\, supplies will be delivered to participants ahead of time. Please note that supplies can only be delivered to participants in the Capital Regional District and Sooke. Participants from outside the area are welcome to follow along using their own supplies; please contact us to request a supply list.
URL:https://victoriaautism.ca/event/craft-night-with-aryn-franklin-2/
ATTACH;FMTTYPE=image/png:https://victoriaautism.ca/wp-content/uploads/2021/05/craftnight-june.png
END:VEVENT
BEGIN:VEVENT
DTSTART;VALUE=DATE:20210531
DTEND;VALUE=DATE:20210601
DTSTAMP:20260418T212528
CREATED:20210505T214436Z
LAST-MODIFIED:20210505T220403Z
UID:1926-1622419200-1622505599@victoriaautism.ca
SUMMARY:Summer Respite Program Application Deadline
DESCRIPTION:May 31st is the very last day to submit your applications for Summer Respite Funding. Submit your application with Proof of Diagnosis here: https://victoriaautism.ca/respite/  \nRespite funding is only available to current VSCA members. To register for your free membership\, click here. \nIf you’re a previous member with us\, it’s as simple as clicking “Lost password?” and entering your email to recover your password on our website. \nQuestions? Concerns? Contact us at support@victoriaautism.com
URL:https://victoriaautism.ca/event/summer-respite-program-application/
END:VEVENT
BEGIN:VEVENT
DTSTART;TZID=America/Vancouver:20210528T160000
DTEND;TZID=America/Vancouver:20210528T173000
DTSTAMP:20260418T212528
CREATED:20210105T184145Z
LAST-MODIFIED:20210203T223051Z
UID:1380-1622217600-1622223000@victoriaautism.ca
SUMMARY:Among Us: kids/teen hangout
DESCRIPTION:Sign up for free on Eventbrite to join us for an afternoon of Among Us gameplay! Register in advance to get a link to the google meet\, and we’ll provide instructions to get you up and running. Bring your favourite drinks and snacks!
URL:https://victoriaautism.ca/event/roblox-games/
ATTACH;FMTTYPE=image/jpeg:https://victoriaautism.ca/wp-content/uploads/2021/01/among-us.jpg
END:VEVENT
END:VCALENDAR