BEGIN:VCALENDAR
VERSION:2.0
PRODID:-//Victoria Society for Children with Autism - ECPv6.15.20//NONSGML v1.0//EN
CALSCALE:GREGORIAN
METHOD:PUBLISH
X-ORIGINAL-URL:https://victoriaautism.ca
X-WR-CALDESC:Events for Victoria Society for Children with Autism
REFRESH-INTERVAL;VALUE=DURATION:PT1H
X-Robots-Tag:noindex
X-PUBLISHED-TTL:PT1H
BEGIN:VTIMEZONE
TZID:America/Vancouver
BEGIN:DAYLIGHT
TZOFFSETFROM:-0800
TZOFFSETTO:-0700
TZNAME:PDT
DTSTART:20200308T100000
END:DAYLIGHT
BEGIN:STANDARD
TZOFFSETFROM:-0700
TZOFFSETTO:-0800
TZNAME:PST
DTSTART:20201101T090000
END:STANDARD
BEGIN:DAYLIGHT
TZOFFSETFROM:-0800
TZOFFSETTO:-0700
TZNAME:PDT
DTSTART:20210314T100000
END:DAYLIGHT
BEGIN:STANDARD
TZOFFSETFROM:-0700
TZOFFSETTO:-0800
TZNAME:PST
DTSTART:20211107T090000
END:STANDARD
BEGIN:DAYLIGHT
TZOFFSETFROM:-0800
TZOFFSETTO:-0700
TZNAME:PDT
DTSTART:20220313T100000
END:DAYLIGHT
BEGIN:STANDARD
TZOFFSETFROM:-0700
TZOFFSETTO:-0800
TZNAME:PST
DTSTART:20221106T090000
END:STANDARD
END:VTIMEZONE
BEGIN:VEVENT
DTSTART;TZID=America/Vancouver:20210715T190000
DTEND;TZID=America/Vancouver:20210715T203000
DTSTAMP:20260423T074006
CREATED:20210603T230351Z
LAST-MODIFIED:20210603T230351Z
UID:1963-1626375600-1626381000@victoriaautism.ca
SUMMARY:Parents' Coffee Night
DESCRIPTION:Join us at our virtual coffee night to connect with other caregivers to autistic children. This is an opportunity for parents and caregivers to come together as a community\, trade stories and tips\, and provide support and encouragement for one another. Register in advance on EventBrite to receive the meeting link.
URL:https://victoriaautism.ca/event/parents-coffee-night-6/
ATTACH;FMTTYPE=image/jpeg:https://victoriaautism.ca/wp-content/uploads/2021/06/CR_unsplash_300.jpg
END:VEVENT
BEGIN:VEVENT
DTSTART;TZID=America/Vancouver:20210713T183000
DTEND;TZID=America/Vancouver:20210713T190000
DTSTAMP:20260423T074006
CREATED:20210604T000941Z
LAST-MODIFIED:20210604T000941Z
UID:1981-1626201000-1626202800@victoriaautism.ca
SUMMARY:Storytime with Dr. Beverley A. Elliott
DESCRIPTION:Join us live for a very special reading of the whimsical children’s book ‘Greyson’s Shoes’ by author Dr. Beverley A. Elliott. \n‘Greyson’s Shoes’ is about a boy named Greyson\, a preschooler with autism\, who views the world through a very different lens. He loves playing outside but hates having his shoes on. His dad wants to make sure that he doesn’t step into something gross\, but Greyson doesn’t understand this. Come follow along on this journey as father and son learn to understand each other. \nFor more information about the book\, please visit https://books.friesenpress.com/store/title/119734000154955643/Dr.-Beverley-A.-Elliott-Greyson%E2%80%99s-Shoes \n \n***This event will be recorded so that members who missed the live broadcast can enjoy the activity with their families. The recording will be hosted on a members-only part of our website for a limited time. Participants who do not wish to be recorded can join the call with their cameras off. Please feel free to turn your video on or off at any time during the activity.
URL:https://victoriaautism.ca/event/storytime-with-dr-beverley-a-elliott/
ATTACH;FMTTYPE=image/jpeg:https://victoriaautism.ca/wp-content/uploads/2021/02/storytime.jpeg
END:VEVENT
BEGIN:VEVENT
DTSTART;TZID=America/Vancouver:20210709T160000
DTEND;TZID=America/Vancouver:20210709T173000
DTSTAMP:20260423T074006
CREATED:20210625T001234Z
LAST-MODIFIED:20210625T001234Z
UID:2002-1625846400-1625851800@victoriaautism.ca
SUMMARY:Minecraft Afternoon
DESCRIPTION:Hang out\, explore\, and play some minecraft games with others in the Victoria Autism group. Please register for a free ticket on Eventbrite so that we can send you the google meet and minecraft server details. \n If you would like tech support please feel free to email us prior to the event at support@victoriaautism.com \n***To maintain a safe\, fun\, and inclusive environment for all ages\, words that attack such as “stupid\, dumb\, mental\, etc.” will NOT be tolerated in the chat. Use of hurtful or unkind language will lead to removal from the meeting. We want all of our members and friends to be able to enjoy this social event\, so please be considerate.
URL:https://victoriaautism.ca/event/minecraft-afternoon-8/
ATTACH;FMTTYPE=image/jpeg:https://victoriaautism.ca/wp-content/uploads/2021/06/SS_MC1.jpg
END:VEVENT
BEGIN:VEVENT
DTSTART;TZID=America/Vancouver:20210625T160000
DTEND;TZID=America/Vancouver:20210625T173000
DTSTAMP:20260423T074006
CREATED:20210105T184303Z
LAST-MODIFIED:20210604T161058Z
UID:1382-1624636800-1624642200@victoriaautism.ca
SUMMARY:Among Us: kids/teen hangout
DESCRIPTION:Sign up for free on Eventbrite to join us for an afternoon of Among Us and a few more games! Register in advance to get a link to the google meet\, and we’ll provide instructions to get you up and running. Bring your favourite drinks and snacks! \nIf you have a game suggestion\, email us at support@victoriaautism.com
URL:https://victoriaautism.ca/event/roblox-games-afternoon-4/
ATTACH;FMTTYPE=image/jpeg:https://victoriaautism.ca/wp-content/uploads/2021/01/among-us.jpg
END:VEVENT
BEGIN:VEVENT
DTSTART;TZID=America/Vancouver:20210624T183000
DTEND;TZID=America/Vancouver:20210624T190000
DTSTAMP:20260423T074006
CREATED:20210614T220255Z
LAST-MODIFIED:20210617T201619Z
UID:1995-1624559400-1624561200@victoriaautism.ca
SUMMARY:Music Event: Singing
DESCRIPTION:Join us live for the first of 3 very special music sessions with Nicole Burch\, lead singer of The Promised. This month she will be leading us in a singing workshop\, so get your voices ready! \nNoelle has provided a class schedule with achievement points for your child to reach! We will be providing a very special sticker page for each participant. Participants will earn stickers for each class segment. Parental supervision is requested for this event. \nMaterials for this event will be dropped off by our hardworking volunteers prior to the day. Please note that materials can only be provided within the CRD. \nSpace is limited so register early by clicking on the “view event website” button to the right or click here to register
URL:https://victoriaautism.ca/event/music-event-singing/
ATTACH;FMTTYPE=image/jpeg:https://victoriaautism.ca/wp-content/uploads/2021/06/robinson-recalde-sT0n-Ie8OKo-unsplash.jpg
END:VEVENT
BEGIN:VEVENT
DTSTART;TZID=America/Vancouver:20210617T190000
DTEND;TZID=America/Vancouver:20210617T203000
DTSTAMP:20260423T074006
CREATED:20210525T215422Z
LAST-MODIFIED:20210603T225350Z
UID:1951-1623956400-1623961800@victoriaautism.ca
SUMMARY:Parents' Coffee Night
DESCRIPTION:Join us at our virtual coffee night to connect with other caregivers to autistic children. This is an opportunity for caregivers to come together as a community to trade stories and tips\, and to provide support and encouragement. Register in advance on EventBrite to receive the meeting link.
URL:https://victoriaautism.ca/event/parents-coffee-night-5/
ATTACH;FMTTYPE=image/jpeg:https://victoriaautism.ca/wp-content/uploads/2021/01/coffeevirtual.jpeg
END:VEVENT
BEGIN:VEVENT
DTSTART;TZID=America/Vancouver:20210611T160000
DTEND;TZID=America/Vancouver:20210611T173000
DTSTAMP:20260423T074006
CREATED:20210105T175536Z
LAST-MODIFIED:20210105T193304Z
UID:1363-1623427200-1623432600@victoriaautism.ca
SUMMARY:Minecraft Afternoon
DESCRIPTION:Hang out\, explore\, and play some minecraft games with others in the Victoria Autism group. Please register for a free ticket on Eventbrite so that we can send you the google meet and minecraft server details.
URL:https://victoriaautism.ca/event/minecraft-afternoon-7/
ATTACH;FMTTYPE=image/jpeg:https://victoriaautism.ca/wp-content/uploads/2021/01/minecraft3.jpeg
END:VEVENT
BEGIN:VEVENT
DTSTART;TZID=America/Vancouver:20210602T183000
DTEND;TZID=America/Vancouver:20210602T193000
DTSTAMP:20260423T074006
CREATED:20210512T213223Z
LAST-MODIFIED:20210512T213223Z
UID:1939-1622658600-1622662200@victoriaautism.ca
SUMMARY:Craft Night with Aryn Franklin
DESCRIPTION:Join Victoria Autism in the virtual art studio for another night of creative fun led by Aryn Franklin of Wild Seeds SLP. This month we will be making tape resist watercolour paintings. As always\, supplies will be delivered to participants ahead of time. Please note that supplies can only be delivered to participants in the Capital Regional District and Sooke. Participants from outside the area are welcome to follow along using their own supplies; please contact us to request a supply list.
URL:https://victoriaautism.ca/event/craft-night-with-aryn-franklin-2/
ATTACH;FMTTYPE=image/png:https://victoriaautism.ca/wp-content/uploads/2021/05/craftnight-june.png
END:VEVENT
BEGIN:VEVENT
DTSTART;VALUE=DATE:20210531
DTEND;VALUE=DATE:20210601
DTSTAMP:20260423T074006
CREATED:20210505T214436Z
LAST-MODIFIED:20210505T220403Z
UID:1926-1622419200-1622505599@victoriaautism.ca
SUMMARY:Summer Respite Program Application Deadline
DESCRIPTION:May 31st is the very last day to submit your applications for Summer Respite Funding. Submit your application with Proof of Diagnosis here: https://victoriaautism.ca/respite/  \nRespite funding is only available to current VSCA members. To register for your free membership\, click here. \nIf you’re a previous member with us\, it’s as simple as clicking “Lost password?” and entering your email to recover your password on our website. \nQuestions? Concerns? Contact us at support@victoriaautism.com
URL:https://victoriaautism.ca/event/summer-respite-program-application/
END:VEVENT
BEGIN:VEVENT
DTSTART;TZID=America/Vancouver:20210528T160000
DTEND;TZID=America/Vancouver:20210528T173000
DTSTAMP:20260423T074006
CREATED:20210105T184145Z
LAST-MODIFIED:20210203T223051Z
UID:1380-1622217600-1622223000@victoriaautism.ca
SUMMARY:Among Us: kids/teen hangout
DESCRIPTION:Sign up for free on Eventbrite to join us for an afternoon of Among Us gameplay! Register in advance to get a link to the google meet\, and we’ll provide instructions to get you up and running. Bring your favourite drinks and snacks!
URL:https://victoriaautism.ca/event/roblox-games/
ATTACH;FMTTYPE=image/jpeg:https://victoriaautism.ca/wp-content/uploads/2021/01/among-us.jpg
END:VEVENT
BEGIN:VEVENT
DTSTART;TZID=America/Vancouver:20210520T190000
DTEND;TZID=America/Vancouver:20210520T203000
DTSTAMP:20260423T074006
CREATED:20210105T181635Z
LAST-MODIFIED:20210408T194449Z
UID:1371-1621537200-1621542600@victoriaautism.ca
SUMMARY:Parents' Coffee Night
DESCRIPTION:Join our virtual coffee night to connect with other parents over life and the journey of raising autistic children. Register for your free ticket on Eventbrite and we will send you the meeting link.
URL:https://victoriaautism.ca/event/parents-coffee-night-4/
ATTACH;FMTTYPE=image/jpeg:https://victoriaautism.ca/wp-content/uploads/2020/12/youvegotthis.jpg
END:VEVENT
BEGIN:VEVENT
DTSTART;TZID=America/Vancouver:20210517T183000
DTEND;TZID=America/Vancouver:20210517T193000
DTSTAMP:20260423T074006
CREATED:20210505T215234Z
LAST-MODIFIED:20210505T215234Z
UID:1929-1621276200-1621279800@victoriaautism.ca
SUMMARY:Virtual Magic Show with Paul Kilshaw
DESCRIPTION:Join us for an evening of magical entertainment with children’s magician Paul Kilshaw on Zoom! Paul will be performing a 45 minute live set for VSCA member kids and their families. Participants will also receive Paul’s free pamphlet of simple magic tricks to learn at home. Just like our craft night\, materials will be delivered in advance of the event. Space is limited\, so register early!  Please note that this event is open to members of the Victoria Society for Children with Autism\, and that supplies can only be delivered to participants in the CRD (Greater Victoria\, BC).
URL:https://victoriaautism.ca/event/virtual-magic-show-with-paul-kilshaw/
ATTACH;FMTTYPE=image/jpeg:https://victoriaautism.ca/wp-content/uploads/2021/05/cristian-escobar-abkEAOjnY0s-unsplash.jpg
END:VEVENT
BEGIN:VEVENT
DTSTART;TZID=America/Vancouver:20210515T100000
DTEND;TZID=America/Vancouver:20210515T110000
DTSTAMP:20260423T074006
CREATED:20210413T175347Z
LAST-MODIFIED:20210506T163825Z
UID:1887-1621072800-1621076400@victoriaautism.ca
SUMMARY:Annual General Meeting
DESCRIPTION:Join other VSCA Members for our virtual AGM. We will review financials\, discuss the events of the past year\, vote for board members\, and plan for the future. Register for free on eventbrite to receive the meeting link by email.
URL:https://victoriaautism.ca/event/annual-general-meeting/
ATTACH;FMTTYPE=image/jpeg:https://victoriaautism.ca/wp-content/uploads/2016/05/AGM_edit-01.jpg
END:VEVENT
BEGIN:VEVENT
DTSTART;TZID=America/Vancouver:20210514T160000
DTEND;TZID=America/Vancouver:20210514T173000
DTSTAMP:20260423T074006
CREATED:20210105T175213Z
LAST-MODIFIED:20210105T193226Z
UID:1361-1621008000-1621013400@victoriaautism.ca
SUMMARY:Minecraft Afternoon
DESCRIPTION:Hang out\, explore\, and play some minecraft games with others in the Victoria Autism group. Please register for a free ticket on Eventbrite so that we can send you the google meet and minecraft server details.
URL:https://victoriaautism.ca/event/minecraft-afternoon-6/
ATTACH;FMTTYPE=image/jpeg:https://victoriaautism.ca/wp-content/uploads/2021/01/minecraft2-scaled.jpg
END:VEVENT
BEGIN:VEVENT
DTSTART;TZID=America/Vancouver:20210511T183000
DTEND;TZID=America/Vancouver:20210511T190000
DTSTAMP:20260423T074006
CREATED:20210505T213811Z
LAST-MODIFIED:20210505T213811Z
UID:1924-1620757800-1620759600@victoriaautism.ca
SUMMARY:Read Aloud Story Time
DESCRIPTION:Cozy up for a virtual storytime hosted by VSCA’s own Michael Yarr. Register for your free ticket on Eventbrite\, then hop over to the Victoria Autism Facebook group to vote for your choice of story.
URL:https://victoriaautism.ca/event/read-aloud-story-time/
ATTACH;FMTTYPE=image/jpeg:https://victoriaautism.ca/wp-content/uploads/2021/02/storytime.jpeg
END:VEVENT
BEGIN:VEVENT
DTSTART;TZID=America/Vancouver:20210423T160000
DTEND;TZID=America/Vancouver:20210423T173000
DTSTAMP:20260423T074006
CREATED:20210105T183951Z
LAST-MODIFIED:20210203T223218Z
UID:1378-1619193600-1619199000@victoriaautism.ca
SUMMARY:Among Us: kids/teen hangout
DESCRIPTION:Sign up for free on Eventbrite to join us for an afternoon of Among Us gameplay! Register in advance to get a link to the google meet\, and we’ll provide instructions to get you up and running. Bring your favourite drinks and snacks!
URL:https://victoriaautism.ca/event/roblox-games-afternoon-3/
ATTACH;FMTTYPE=image/jpeg:https://victoriaautism.ca/wp-content/uploads/2021/01/among-us.jpg
END:VEVENT
BEGIN:VEVENT
DTSTART;TZID=America/Vancouver:20210418T170000
DTEND;TZID=America/Vancouver:20210418T180000
DTSTAMP:20260423T074006
CREATED:20210413T212121Z
LAST-MODIFIED:20210413T212455Z
UID:1893-1618765200-1618768800@victoriaautism.ca
SUMMARY:VSCA on Chek6 Vital people
DESCRIPTION:VSCA in the news! Tune in to Chek6 News to catch the Vital People segment on Victoria Society for Children with Autism. Chek News can be streamed live here. \n 
URL:https://victoriaautism.ca/event/vsca-on-chek6-vital-people/
END:VEVENT
BEGIN:VEVENT
DTSTART;TZID=America/Vancouver:20210416T160000
DTEND;TZID=America/Vancouver:20210416T160000
DTSTAMP:20260423T074006
CREATED:20210105T174932Z
LAST-MODIFIED:20210408T190627Z
UID:1359-1618588800-1618588800@victoriaautism.ca
SUMMARY:Minecraft Afternoon
DESCRIPTION:Hang out\, explore\, and play some minecraft games with others in the Victoria Autism group. Please register for a free ticket on Eventbrite so that we can send you the google meet and minecraft server details.
URL:https://victoriaautism.ca/event/minecraft-afternoon-5/
ATTACH;FMTTYPE=image/jpeg:https://victoriaautism.ca/wp-content/uploads/2021/01/minecraft-event.jpeg
END:VEVENT
BEGIN:VEVENT
DTSTART;TZID=America/Vancouver:20210415T190000
DTEND;TZID=America/Vancouver:20210415T203000
DTSTAMP:20260423T074006
CREATED:20210105T181412Z
LAST-MODIFIED:20210408T194520Z
UID:1369-1618513200-1618518600@victoriaautism.ca
SUMMARY:Parents' Coffee Night with Guest Facilitator Katrina Mallon
DESCRIPTION:Join our virtual coffee night to connect with other parents over life and the journey of raising autistic children. This month we will feature a guest facilitator; Katrina Mallon is a Relationship Development Intervention Consultant. She will be holding an informal conversation around finding common ground among different parenting styles. Register for your free ticket on Eventbrite and we will send you the meeting link. \nFind out more about Katrina’s work here.
URL:https://victoriaautism.ca/event/parents-coffee-night-3/
ATTACH;FMTTYPE=image/jpeg:https://victoriaautism.ca/wp-content/uploads/2021/01/coffee-night.jpeg
END:VEVENT
BEGIN:VEVENT
DTSTART;TZID=America/Vancouver:20210414T183000
DTEND;TZID=America/Vancouver:20210414T193000
DTSTAMP:20260423T074006
CREATED:20210401T194448Z
LAST-MODIFIED:20210401T194448Z
UID:1879-1618425000-1618428600@victoriaautism.ca
SUMMARY:Guided Craft Night with Aryn Franklin
DESCRIPTION:Join us online for an evening of guided crafting\, hosted by Speech-Language Pathologist Aryn Franklin of Wild Seeds SLP. \nFor this month’s activity we will be making sensory bottles\, using Aryn’s Get Ready\, Do\, Done method. Pre-registration is required as we will need to arrange to get the supplies to you ahead of time. You are welcome to also register siblings to make it a whole family event. Please register early as there are a limited number of spaces available. \nGet your free ticket here. \n  \n 
URL:https://victoriaautism.ca/event/guided-craft-night-with-aryn-franklin/
ATTACH;FMTTYPE=image/png:https://victoriaautism.ca/wp-content/uploads/2021/01/WildSeeds_SLP_Contact.png
END:VEVENT
BEGIN:VEVENT
DTSTART;TZID=America/Vancouver:20210325T160000
DTEND;TZID=America/Vancouver:20210325T173000
DTSTAMP:20260423T074006
CREATED:20210105T183713Z
LAST-MODIFIED:20210318T182445Z
UID:1375-1616688000-1616693400@victoriaautism.ca
SUMMARY:Among Us: kids/teen hangout
DESCRIPTION:Sign up for free on Eventbrite to join us for an afternoon of Among Us gameplay! Register in advance to get a link to the google meet\, and we’ll provide instructions to get you up and running. Bring your favourite drinks and snacks!
URL:https://victoriaautism.ca/event/roblox-games-afternoon-2/
ATTACH;FMTTYPE=image/jpeg:https://victoriaautism.ca/wp-content/uploads/2021/01/among-us.jpg
END:VEVENT
BEGIN:VEVENT
DTSTART;TZID=America/Vancouver:20210318T190000
DTEND;TZID=America/Vancouver:20210318T203000
DTSTAMP:20260423T074006
CREATED:20210105T180438Z
LAST-MODIFIED:20210305T231801Z
UID:1367-1616094000-1616099400@victoriaautism.ca
SUMMARY:Parents' Coffee Night
DESCRIPTION:Join our virtual coffee night to connect with other parents over life and the journey of raising autistic children. Register for your free ticket on Eventbrite and we will send you the meeting link. \nThis month we will feature guest speaker Adrienne Seal of Spirit Tree Parent Coaching\, speaking on the topic of Overwhelm. Learn more about Adrienne on her website: https://www.spirittreeparentcoaching.com/
URL:https://victoriaautism.ca/event/parents-coffee-night-2/
ATTACH;FMTTYPE=image/png:https://victoriaautism.ca/wp-content/uploads/2021/01/coffeevirtual2.png
END:VEVENT
BEGIN:VEVENT
DTSTART;TZID=America/Vancouver:20210312T160000
DTEND;TZID=America/Vancouver:20210312T173000
DTSTAMP:20260423T074006
CREATED:20210105T174318Z
LAST-MODIFIED:20210105T193142Z
UID:1354-1615564800-1615570200@victoriaautism.ca
SUMMARY:Minecraft Afternoon
DESCRIPTION:Hang out\, explore\, and play some minecraft games with others in the Victoria Autism group. Please register for a free ticket on Eventbrite so we can send you the google meet and minecraft server details.
URL:https://victoriaautism.ca/event/minecraft-afternoon-4/
ATTACH;FMTTYPE=image/jpeg:https://victoriaautism.ca/wp-content/uploads/2021/01/minecraft3.jpeg
END:VEVENT
BEGIN:VEVENT
DTSTART;TZID=America/Vancouver:20210309T183000
DTEND;TZID=America/Vancouver:20210309T191500
DTSTAMP:20260423T074006
CREATED:20210210T184428Z
LAST-MODIFIED:20210302T205450Z
UID:1766-1615314600-1615317300@victoriaautism.ca
SUMMARY:Storytime with Aryn Franklin\, Author and SLP
DESCRIPTION:Join us live for a very special reading of the whimsical children’s book ‘Narwhal Makes a Sandwich’ by co-author and Speech-Language Pathologist\, Aryn Franklin. \n\n\n‘Narwhal Makes a Sandwich’ is the first book in the series. It is a sequencing and number story featuring hungry Narwhal sick of his usual cold water sushi and looking for a change to liven up his taste buds. He resolves to make “THE GREATEST SANDWICH THE ARCTIC OCEAN HAS EVER SEEN”. Come follow along on this scrumptious adventure through the magical waters of Canada’s north. \n\nStory time will be followed by a few Narwhal-themed activities\, including both movement and drawing. Have some paper and colouring tools ready (pencil\, markers\, crayons\, etc.) to participate in the fun! Please note\, you can stay as long or as short as you’d like for this event. You can choose to stay for the follow-up activities\, or just join in for the short reading time at the beginning (approximately 15 minutes).\n\nFor more information about the book\, please visit: www.threehornunicorn.com\n \n***This event will be recorded so that members who missed the live broadcast can enjoy the activity with their families. The recording will be hosted on a members-only part of our website for a limited time. Participants who do not wish to be recorded can join the call with their cameras off. Please feel free to turn your video on or off at any time during the activity.
URL:https://victoriaautism.ca/event/storytime-with-aryn-franklin-author-and-slp/
ATTACH;FMTTYPE=image/jpeg:https://victoriaautism.ca/wp-content/uploads/2021/02/narwhal2-scaled.jpg
END:VEVENT
BEGIN:VEVENT
DTSTART;TZID=America/Vancouver:20210226T160000
DTEND;TZID=America/Vancouver:20210226T173000
DTSTAMP:20260423T074006
CREATED:20210105T183621Z
LAST-MODIFIED:20210203T223701Z
UID:1373-1614355200-1614360600@victoriaautism.ca
SUMMARY:Among Us: kids/teen hangout
DESCRIPTION:Sign up for free on Eventbrite to join us for an afternoon of Among Us gameplay! Register in advance to get a link to the google meet\, and we’ll provide instructions to get you up and running. Bring your favourite drinks and snacks!
URL:https://victoriaautism.ca/event/roblox-games-afternoon/
ATTACH;FMTTYPE=image/jpeg:https://victoriaautism.ca/wp-content/uploads/2021/01/among-us.jpg
END:VEVENT
BEGIN:VEVENT
DTSTART;TZID=America/Vancouver:20210218T190000
DTEND;TZID=America/Vancouver:20210218T203000
DTSTAMP:20260423T074006
CREATED:20210105T180228Z
LAST-MODIFIED:20210105T195243Z
UID:1365-1613674800-1613680200@victoriaautism.ca
SUMMARY:Parents' Coffee Night
DESCRIPTION:Join our virtual coffee night to connect with other parents over life and the journey of raising autistic children. Register for your free ticket on Eventbrite and we will send you the meeting link.
URL:https://victoriaautism.ca/event/parents-coffee-night/
ATTACH;FMTTYPE=image/jpeg:https://victoriaautism.ca/wp-content/uploads/2021/01/coffeevirtual.jpeg
END:VEVENT
BEGIN:VEVENT
DTSTART;TZID=America/Vancouver:20210212T160000
DTEND;TZID=America/Vancouver:20210212T173000
DTSTAMP:20260423T074006
CREATED:20210105T174102Z
LAST-MODIFIED:20210105T193046Z
UID:1352-1613145600-1613151000@victoriaautism.ca
SUMMARY:Minecraft Afternoon
DESCRIPTION:Hang out\, explore\, and play some minecraft games with others in the Victoria Autism group. Please register for a free ticket on Eventbrite so we can send you the google meet and minecraft server details.
URL:https://victoriaautism.ca/event/minecraft-afternoon-3/
ATTACH;FMTTYPE=image/jpeg:https://victoriaautism.ca/wp-content/uploads/2021/01/minecraft2-scaled.jpg
END:VEVENT
BEGIN:VEVENT
DTSTART;TZID=America/Vancouver:20210209T183000
DTEND;TZID=America/Vancouver:20210209T193000
DTSTAMP:20260423T074006
CREATED:20210121T171723Z
LAST-MODIFIED:20210121T171723Z
UID:1683-1612895400-1612899000@victoriaautism.ca
SUMMARY:Valentine's Day Craft Night with Aryn Franklin
DESCRIPTION:Join us for another night of crafting hosted by Speech-Language Pathologist Aryn Franklin. Aryn will guide you and your child through painting wooden hearts using three simple methods. This activity will be suitable for even the younger ones in your household. We may have some messy fingers but we’ll have full hearts! Pre-registration is required as we will need to arrange to get all the supplies to you ahead of time. Register for your free ticket here.  \nLet’s get creative together!
URL:https://victoriaautism.ca/event/valentines-day-craft-night-with-aryn-franklin/
ATTACH;FMTTYPE=image/jpeg:https://victoriaautism.ca/wp-content/uploads/2021/01/valentinecraft-scaled.jpg
END:VEVENT
BEGIN:VEVENT
DTSTART;TZID=America/Vancouver:20210122T160000
DTEND;TZID=America/Vancouver:20210122T173000
DTSTAMP:20260423T074006
CREATED:20210105T003416Z
LAST-MODIFIED:20210105T003416Z
UID:1350-1611331200-1611336600@victoriaautism.ca
SUMMARY:Roblox Games: kids/teen hangout
DESCRIPTION:Sign up on Eventbrite to join us for an afternoon playing Roblox games! Once registered\, you will receive the meeting link. Game suggestions are encouraged!
URL:https://victoriaautism.ca/event/roblox-games-kids-teen-hangout/
ATTACH;FMTTYPE=image/jpeg:https://victoriaautism.ca/wp-content/uploads/2020/12/roblox.jpg
END:VEVENT
BEGIN:VEVENT
DTSTART;TZID=America/Vancouver:20210121T190000
DTEND;TZID=America/Vancouver:20210121T203000
DTSTAMP:20260423T074006
CREATED:20210105T002721Z
LAST-MODIFIED:20210106T190658Z
UID:1345-1611255600-1611261000@victoriaautism.ca
SUMMARY:Parents' Coffee Night with Speaker Aryn Franklin
DESCRIPTION:This month our Virtual Coffee Night will feature a 10-15 minute talk with Speech-Language Pathologist Aryn Franklin. You may remember Aryn from our Christmas craft fun last month! Following Aryn’s talk we will host our usual social evening. Make up your favourite drink and gather with other parents to connect with the VSCA community. \nSign up for free in Eventbrite to receive the meeting link.
URL:https://victoriaautism.ca/event/parent-night/
ATTACH;FMTTYPE=image/jpeg:https://victoriaautism.ca/wp-content/uploads/2021/01/coffee-night.jpeg
END:VEVENT
END:VCALENDAR