BEGIN:VCALENDAR
VERSION:2.0
PRODID:-//Victoria Society for Children with Autism - ECPv6.15.20//NONSGML v1.0//EN
CALSCALE:GREGORIAN
METHOD:PUBLISH
X-ORIGINAL-URL:https://victoriaautism.ca
X-WR-CALDESC:Events for Victoria Society for Children with Autism
REFRESH-INTERVAL;VALUE=DURATION:PT1H
X-Robots-Tag:noindex
X-PUBLISHED-TTL:PT1H
BEGIN:VTIMEZONE
TZID:America/Vancouver
BEGIN:DAYLIGHT
TZOFFSETFROM:-0800
TZOFFSETTO:-0700
TZNAME:PDT
DTSTART:20210314T100000
END:DAYLIGHT
BEGIN:STANDARD
TZOFFSETFROM:-0700
TZOFFSETTO:-0800
TZNAME:PST
DTSTART:20211107T090000
END:STANDARD
BEGIN:DAYLIGHT
TZOFFSETFROM:-0800
TZOFFSETTO:-0700
TZNAME:PDT
DTSTART:20220313T100000
END:DAYLIGHT
BEGIN:STANDARD
TZOFFSETFROM:-0700
TZOFFSETTO:-0800
TZNAME:PST
DTSTART:20221106T090000
END:STANDARD
BEGIN:DAYLIGHT
TZOFFSETFROM:-0800
TZOFFSETTO:-0700
TZNAME:PDT
DTSTART:20230312T100000
END:DAYLIGHT
BEGIN:STANDARD
TZOFFSETFROM:-0700
TZOFFSETTO:-0800
TZNAME:PST
DTSTART:20231105T090000
END:STANDARD
BEGIN:DAYLIGHT
TZOFFSETFROM:-0800
TZOFFSETTO:-0700
TZNAME:PDT
DTSTART:20240310T100000
END:DAYLIGHT
BEGIN:STANDARD
TZOFFSETFROM:-0700
TZOFFSETTO:-0800
TZNAME:PST
DTSTART:20241103T090000
END:STANDARD
END:VTIMEZONE
BEGIN:VTIMEZONE
TZID:UTC
BEGIN:STANDARD
TZOFFSETFROM:+0000
TZOFFSETTO:+0000
TZNAME:UTC
DTSTART:20210101T000000
END:STANDARD
END:VTIMEZONE
BEGIN:VEVENT
DTSTART;TZID=America/Vancouver:20230310T183000
DTEND;TZID=America/Vancouver:20230310T203000
DTSTAMP:20260422T203351
CREATED:20230309T214111Z
LAST-MODIFIED:20230309T214111Z
UID:2505-1678473000-1678480200@victoriaautism.ca
SUMMARY:Parent Night with Guest Speaker Kids Physio
DESCRIPTION:We are excited to invite you to our upcoming in-person Parent Night event on March 10th\, featuring a special guest speaker – Kids Physio! \nDon’t worry about arranging childcare as we’ll be providing it onsite for free. To ensure that we have enough space and resources for everyone\, please sign up on Eventbrite and let us know that you’ll be attending.
URL:https://victoriaautism.ca/event/parent-night-with-guest-speaker-kids-physio/
LOCATION:Saanich Baptish Church\, 4347 Wilkinson Road\, Victoria
ATTACH;FMTTYPE=image/png:https://victoriaautism.ca/wp-content/uploads/2023/03/Guest-Speaker1.png
END:VEVENT
BEGIN:VEVENT
DTSTART;TZID=America/Vancouver:20230217T183000
DTEND;TZID=America/Vancouver:20230217T200000
DTSTAMP:20260422T203351
CREATED:20230202T013118Z
LAST-MODIFIED:20230202T013118Z
UID:2472-1676658600-1676664000@victoriaautism.ca
SUMMARY:Victoria Autism Parent Night (Childcare Available!)
DESCRIPTION:Join us in person for meaningful conversations with other caregivers of children with autism. Together caregivers and parents can connect over their similarities in raising children with autism as well as general life.  Free childcare is available onsite for this event. This month we will be joined by guest speaker Kids Physio!
URL:https://victoriaautism.ca/event/victoria-autism-parent-night-childcare-available/
ATTACH;FMTTYPE=image/jpeg:https://victoriaautism.ca/wp-content/uploads/2021/06/robinson-recalde-sT0n-Ie8OKo-unsplash.jpg
END:VEVENT
BEGIN:VEVENT
DTSTART;TZID=America/Vancouver:20230208T183000
DTEND;TZID=America/Vancouver:20230208T190000
DTSTAMP:20260422T203351
CREATED:20230202T012847Z
LAST-MODIFIED:20230202T012847Z
UID:2470-1675881000-1675882800@victoriaautism.ca
SUMMARY:Victoria Autism Virtual Craft Night
DESCRIPTION:Join us for an evening of virtual Valentines crafting hosted by Aryn Franklin of Wild Seeds\, SLP
URL:https://victoriaautism.ca/event/victoria-autism-virtual-craft-night/
ATTACH;FMTTYPE=image/jpeg:https://victoriaautism.ca/wp-content/uploads/2021/07/sigmund-TJxotQTUr8o-unsplash.jpg
END:VEVENT
BEGIN:VEVENT
DTSTART;TZID=America/Vancouver:20230203T080000
DTEND;TZID=America/Vancouver:20230303T233000
DTSTAMP:20260422T203351
CREATED:20230204T054608Z
LAST-MODIFIED:20230204T054711Z
UID:2488-1675411200-1677886200@victoriaautism.ca
SUMMARY:Apply for Spring Respite
DESCRIPTION:Apply using this link by March 3rd
URL:https://victoriaautism.ca/event/apply-for-spring-respite/
ATTACH;FMTTYPE=image/jpeg:https://victoriaautism.ca/wp-content/uploads/2023/02/springbreak.jpg
END:VEVENT
BEGIN:VEVENT
DTSTART;TZID=America/Vancouver:20221217T153000
DTEND;TZID=America/Vancouver:20221217T170000
DTSTAMP:20260422T203351
CREATED:20221126T013625Z
LAST-MODIFIED:20221126T013625Z
UID:2450-1671291000-1671296400@victoriaautism.ca
SUMMARY:Victoria Autism Holiday Party
DESCRIPTION:Join VSCA and friends for a fun-filled holiday celebration at Commonwealth Place! This festive party will feature: \n\nDoor Prizes donated by local businesses\nSnacks and drinks\nCraft activities and kids’ games\nA photographer for festive photos
URL:https://victoriaautism.ca/event/victoria-autism-holiday-party/
LOCATION:Commonwealth Place\, 4636 Elk Lake Drive\, Victoria\, British Columbia\, Canada
ATTACH;FMTTYPE=image/jpeg:https://victoriaautism.ca/wp-content/uploads/2022/11/dan-cristian-padure-oAGZG9PNolU-unsplash-1.jpg
END:VEVENT
BEGIN:VEVENT
DTSTART;TZID=America/Vancouver:20221214T183000
DTEND;TZID=America/Vancouver:20221214T193000
DTSTAMP:20260422T203351
CREATED:20221126T030808Z
LAST-MODIFIED:20221126T030808Z
UID:2455-1671042600-1671046200@victoriaautism.ca
SUMMARY:Christmas Craft Night with Aryn Franklin
DESCRIPTION:Join us for an evening of virtual festive crafting with Aryn Franklin of Wild Seeds\, SLP. Aryn will help us to make ornaments to hang in our homes this holiday season. Please note that this craft will require use of an oven; adult supervision is strongly recommended. \nAs always\, supplies will be delivered to participants within the CRD in advance of the event. Please include your home address with registration for delivery purposes. If you live outside of the CRD and would like to join our stream\, please contact us at support@victoriaautism.ca for a list of necessary supplies.
URL:https://victoriaautism.ca/event/christmas-craft-night-with-aryn-franklin/
ATTACH;FMTTYPE=image/png:https://victoriaautism.ca/wp-content/uploads/2016/12/clipart-christmas-party-Christmas-Tree-Boy.png
END:VEVENT
BEGIN:VEVENT
DTSTART;TZID=America/Vancouver:20221204T170000
DTEND;TZID=America/Vancouver:20221204T210000
DTSTAMP:20260422T203351
CREATED:20221102T184743Z
LAST-MODIFIED:20221102T185222Z
UID:2444-1670173200-1670187600@victoriaautism.ca
SUMMARY:Winter Respite 2022
DESCRIPTION:Applications for Winter Respite Funding will be open to VSCA members until December 4th. Click here to visit the application page. Need to register in our online system? Click here. Having Technical Difficulties? Email us at support@victoriaautism.com
URL:https://victoriaautism.ca/event/winter-respite-2022/
ATTACH;FMTTYPE=image/jpeg:https://victoriaautism.ca/wp-content/uploads/2016/04/christmasrespite.jpg
END:VEVENT
BEGIN:VEVENT
DTSTART;TZID=America/Vancouver:20221125T183000
DTEND;TZID=America/Vancouver:20221125T200000
DTSTAMP:20260422T203351
CREATED:20221116T173330Z
LAST-MODIFIED:20221116T173330Z
UID:2446-1669401000-1669406400@victoriaautism.ca
SUMMARY:Parent Night
DESCRIPTION:Join us in person for meaningful conversations with other caregivers of children with autism. Together caregivers and parents can connect over their similarities in raising children with autism as well as general life.
URL:https://victoriaautism.ca/event/parent-night-2/
ATTACH;FMTTYPE=image/jpeg:https://victoriaautism.ca/wp-content/uploads/2021/06/CR_unsplash_300.jpg
END:VEVENT
BEGIN:VEVENT
DTSTART;TZID=America/Vancouver:20220926T183000
DTEND;TZID=America/Vancouver:20220926T190000
DTSTAMP:20260422T203351
CREATED:20220915T042709Z
LAST-MODIFIED:20220915T042709Z
UID:2432-1664217000-1664218800@victoriaautism.ca
SUMMARY:Game Night
DESCRIPTION:Join us online for a virtual games night! Register for free on Eventbrite
URL:https://victoriaautism.ca/event/game-night/
ATTACH;FMTTYPE=image/jpeg:https://victoriaautism.ca/wp-content/uploads/2021/06/third-serving-0DF7DuMrI9k-unsplash.jpg
END:VEVENT
BEGIN:VEVENT
DTSTART;TZID=America/Vancouver:20220921T183000
DTEND;TZID=America/Vancouver:20220921T193000
DTSTAMP:20260422T203351
CREATED:20220909T034424Z
LAST-MODIFIED:20220909T034424Z
UID:2429-1663785000-1663788600@victoriaautism.ca
SUMMARY:Victoria Autism Craft Night
DESCRIPTION:Join VSCA and friends for a night of guided crafting hosted by Speech Pathologist Aryn Franklin! \nRegister for your free crafting kit on Eventbrite. \n  \n 
URL:https://victoriaautism.ca/event/victoria-autism-craft-night/
ATTACH;FMTTYPE=image/jpeg:https://victoriaautism.ca/wp-content/uploads/2021/07/sigmund-TJxotQTUr8o-unsplash.jpg
END:VEVENT
BEGIN:VEVENT
DTSTART;TZID=America/Vancouver:20220917T110000
DTEND;TZID=America/Vancouver:20220917T120000
DTSTAMP:20260422T203351
CREATED:20220606T202556Z
LAST-MODIFIED:20220606T203031Z
UID:2400-1663412400-1663416000@victoriaautism.ca
SUMMARY:Annual General Meeting
DESCRIPTION:Join other VSCA Members for our Annual General Meeting. This will be a brief virtual meeting to review what has happened this year\, vote for board members\, review our financials\, and plan for the future. Register to attend on Eventbrite.
URL:https://victoriaautism.ca/event/annual-general-meeting-2/
ATTACH;FMTTYPE=image/jpeg:https://victoriaautism.ca/wp-content/uploads/2021/01/coffeevirtual.jpeg
END:VEVENT
BEGIN:VEVENT
DTSTART;TZID=America/Vancouver:20220828T110000
DTEND;TZID=America/Vancouver:20220828T140000
DTSTAMP:20260422T203351
CREATED:20220810T230044Z
LAST-MODIFIED:20220810T230044Z
UID:2422-1661684400-1661695200@victoriaautism.ca
SUMMARY:Victoria Autism Mini Golf Social
DESCRIPTION:Join VSCA and friends for mini golf and ice cream at Matticks Farm!
URL:https://victoriaautism.ca/event/victoria-autism-mini-golf-social/
ATTACH;FMTTYPE=image/jpeg:https://victoriaautism.ca/wp-content/uploads/2022/08/jason-abrams-EN3AVjMPZWA-unsplash-1.jpg
END:VEVENT
BEGIN:VEVENT
DTSTART;TZID=America/Vancouver:20220818T183000
DTEND;TZID=America/Vancouver:20220818T200000
DTSTAMP:20260422T203351
CREATED:20220806T003353Z
LAST-MODIFIED:20220806T003353Z
UID:2419-1660847400-1660852800@victoriaautism.ca
SUMMARY:August Parent/Caregiver Picnic
DESCRIPTION:Get together with VSCA parents and members for a summer picnic! This is a free social event aimed at building community among parents and caregivers to autistic children.
URL:https://victoriaautism.ca/event/august-parent-caregiver-picnic/
LOCATION:Rutledge Park\, 933 Inverness Rd\, Victoria\, BC\, V8X\, Canada
ATTACH;FMTTYPE=image/png:https://victoriaautism.ca/wp-content/uploads/2021/08/lawnchairs-1.png
END:VEVENT
BEGIN:VEVENT
DTSTART;TZID=America/Vancouver:20220816T180000
DTEND;TZID=America/Vancouver:20220816T190000
DTSTAMP:20260422T203351
CREATED:20220810T232457Z
LAST-MODIFIED:20220810T232457Z
UID:2425-1660672800-1660676400@victoriaautism.ca
SUMMARY:In-House Sensory Scavenger Hunt
DESCRIPTION:Join us for a no fuss in-house sensory scavenger hunt. Open to kids and families of all ages\, participants will look for everyday items in their home to match the scavenger hunt guide!
URL:https://victoriaautism.ca/event/in-house-sensory-scavenger-hunt/
ATTACH;FMTTYPE=image/jpeg:https://victoriaautism.ca/wp-content/uploads/2022/01/agence-olloweb-d9ILr-dbEdg-unsplash.jpg
END:VEVENT
BEGIN:VEVENT
DTSTART;TZID=America/Vancouver:20220721T183000
DTEND;TZID=America/Vancouver:20220721T200000
DTSTAMP:20260422T203351
CREATED:20220702T183449Z
LAST-MODIFIED:20220702T183449Z
UID:2414-1658428200-1658433600@victoriaautism.ca
SUMMARY:July Parent/Caregiver Picnic
DESCRIPTION:Get together with VSCA parents and members for a Spring picnic! This is a free social event aimed at building community among parents and caregivers to autistic children.
URL:https://victoriaautism.ca/event/july-parent-caregiver-picnic/
LOCATION:Rutledge Park\, 933 Inverness Rd\, Victoria\, BC\, V8X\, Canada
ATTACH;FMTTYPE=image/png:https://victoriaautism.ca/wp-content/uploads/2021/08/lawnchairs-1.png
END:VEVENT
BEGIN:VEVENT
DTSTART;TZID=America/Vancouver:20220718T183000
DTEND;TZID=America/Vancouver:20220718T193000
DTSTAMP:20260422T203351
CREATED:20220531T181301Z
LAST-MODIFIED:20220630T230432Z
UID:2391-1658169000-1658172600@victoriaautism.ca
SUMMARY:Victoria Autism Kids/Teens Game Night
DESCRIPTION:Join VSCA kids and friends for a virtual game night!
URL:https://victoriaautism.ca/event/victoria-autism-kids-teens-game-night/
ATTACH;FMTTYPE=image/jpeg:https://victoriaautism.ca/wp-content/uploads/2021/01/coffeevirtual.jpeg
END:VEVENT
BEGIN:VEVENT
DTSTART;TZID=America/Vancouver:20220711T183000
DTEND;TZID=America/Vancouver:20220711T193000
DTSTAMP:20260422T203351
CREATED:20220531T180645Z
LAST-MODIFIED:20220630T230422Z
UID:2387-1657564200-1657567800@victoriaautism.ca
SUMMARY:Victoria Autism Minecraft Game Night
DESCRIPTION:Hang out\, explore\, and play some minecraft games with others in the Victoria Autism group. Please register for a free ticket on Eventbrite so that we can send you the google meet and minecraft server details.  \nIf you would like tech support please feel free to email us prior to the event at support@victoriaautism.com  \n***To maintain a safe\, fun\, and inclusive environment for all ages\, words that attack such as “stupid\, dumb\, mental\, etc.” will NOT be tolerated in the chat. Use of hurtful or unkind language will lead to removal from the meeting. We want all of our members and friends to be able to enjoy this social event\, so please be considerate.
URL:https://victoriaautism.ca/event/victoria-autism-minecraft-game-night-2/
ATTACH;FMTTYPE=image/jpeg:https://victoriaautism.ca/wp-content/uploads/2021/06/SS_MC1.jpg
END:VEVENT
BEGIN:VEVENT
DTSTART;TZID=America/Vancouver:20220627T183000
DTEND;TZID=America/Vancouver:20220627T193000
DTSTAMP:20260422T203351
CREATED:20220520T222908Z
LAST-MODIFIED:20220520T222908Z
UID:2381-1656354600-1656358200@victoriaautism.ca
SUMMARY:Online Game Night
DESCRIPTION:Join VSCA kids and friends for a virtual game night!
URL:https://victoriaautism.ca/event/online-game-night-3/
ATTACH;FMTTYPE=image/jpeg:https://victoriaautism.ca/wp-content/uploads/2021/01/minecraft3.jpeg
END:VEVENT
BEGIN:VEVENT
DTSTART;TZID=America/Vancouver:20220622T183000
DTEND;TZID=America/Vancouver:20220622T200000
DTSTAMP:20260422T203351
CREATED:20220604T230406Z
LAST-MODIFIED:20220604T230406Z
UID:2398-1655922600-1655928000@victoriaautism.ca
SUMMARY:June Parent/Caregiver Picnic
DESCRIPTION:Get together with VSCA parents and members for a Spring picnic! This is a free social event aimed at building community among parents and caregivers to autistic children.
URL:https://victoriaautism.ca/event/june-parent-caregiver-picnic/
LOCATION:Rutledge Park\, 933 Inverness Rd\, Victoria\, BC\, V8X\, Canada
ATTACH;FMTTYPE=image/png:https://victoriaautism.ca/wp-content/uploads/2021/08/lawnchairs-1.png
END:VEVENT
BEGIN:VEVENT
DTSTART;TZID=UTC:20220617T080000
DTEND;TZID=UTC:20220617T170000
DTSTAMP:20260422T203351
CREATED:20220506T223356Z
LAST-MODIFIED:20220611T072419Z
UID:2371-1655452800-1655485200@victoriaautism.ca
SUMMARY:Summer Respite Applications
DESCRIPTION:The Board Members are happy to announce that Summer Respite Funding is available again thanks to generous donors! \nPlease apply by June 4th (extended to June 17). If you have any questions about eligibility or allowed expenses\, please contact us at support@victoriaautism.ca \nClick HERE to apply today! \n 
URL:https://victoriaautism.ca/event/summer-respite-applications/
ATTACH;FMTTYPE=image/gif:https://victoriaautism.ca/wp-content/uploads/2017/05/Summer-fun.379.350.s.gif
END:VEVENT
BEGIN:VEVENT
DTSTART;TZID=America/Vancouver:20220615T183000
DTEND;TZID=America/Vancouver:20220615T193000
DTSTAMP:20260422T203351
CREATED:20220531T182138Z
LAST-MODIFIED:20220531T182138Z
UID:2395-1655317800-1655321400@victoriaautism.ca
SUMMARY:Craft Night with Aryn Franklin
DESCRIPTION:Join VSCA and friends for an evening of guided crafting! \nRegister for your free ticket on Eventbrite.
URL:https://victoriaautism.ca/event/craft-night-with-aryn-franklin-5/
ATTACH;FMTTYPE=image/jpeg:https://victoriaautism.ca/wp-content/uploads/2020/04/photo-1453749024858-4bca89bd9edc.jpg
END:VEVENT
BEGIN:VEVENT
DTSTART;TZID=America/Vancouver:20220606T183000
DTEND;TZID=America/Vancouver:20220606T193000
DTSTAMP:20260422T203351
CREATED:20220531T180329Z
LAST-MODIFIED:20220531T180329Z
UID:2385-1654540200-1654543800@victoriaautism.ca
SUMMARY:Victoria Autism Minecraft Game Night
DESCRIPTION:Hang out\, explore\, and play some minecraft games with others in the Victoria Autism group. Please register for a free ticket on Eventbrite so that we can send you the google meet and minecraft server details.  \nIf you would like tech support please feel free to email us prior to the event at support@victoriaautism.com  \n***To maintain a safe\, fun\, and inclusive environment for all ages\, words that attack such as “stupid\, dumb\, mental\, etc.” will NOT be tolerated in the chat. Use of hurtful or unkind language will lead to removal from the meeting. We want all of our members and friends to be able to enjoy this social event\, so please be considerate.
URL:https://victoriaautism.ca/event/victoria-autism-minecraft-game-night/
ATTACH;FMTTYPE=image/jpeg:https://victoriaautism.ca/wp-content/uploads/2021/06/SS_MC1.jpg
END:VEVENT
BEGIN:VEVENT
DTSTART;TZID=UTC:20220526T183000
DTEND;TZID=UTC:20220526T200000
DTSTAMP:20260422T203351
CREATED:20220506T212927Z
LAST-MODIFIED:20220506T220431Z
UID:2363-1653589800-1653595200@victoriaautism.ca
SUMMARY:Victoria Autism Parents' Picnic
DESCRIPTION:Get together with VSCA parents and members for a Spring picnic! This is a free social event aimed at building community among parents and caregivers to autistic children. Food will be provided. Please bring your own chair or blanket. \n  \nPlease note that as this is part of our parent support series\, topics of discussion may not be appropriate for children.
URL:https://victoriaautism.ca/event/victoria-autism-parents-picnic/
LOCATION:Rutledge Park\, 933 Inverness Rd\, Victoria\, BC\, V8X\, Canada
ATTACH;FMTTYPE=image/png:https://victoriaautism.ca/wp-content/uploads/2021/08/lawnchairs.png
END:VEVENT
BEGIN:VEVENT
DTSTART;TZID=America/Vancouver:20220523T183000
DTEND;TZID=America/Vancouver:20220523T193000
DTSTAMP:20260422T203351
CREATED:20220507T003413Z
LAST-MODIFIED:20220507T003413Z
UID:2377-1653330600-1653334200@victoriaautism.ca
SUMMARY:Online Game Night
DESCRIPTION:Join VSCA kids and friends for a virtual game night!
URL:https://victoriaautism.ca/event/online-game-night-2/
ATTACH;FMTTYPE=image/jpeg:https://victoriaautism.ca/wp-content/uploads/2020/08/jeshoots-com-eCktzGjC-iU-unsplash-1-scaled.jpg
END:VEVENT
BEGIN:VEVENT
DTSTART;TZID=America/Vancouver:20220509T183000
DTEND;TZID=America/Vancouver:20220509T193000
DTSTAMP:20260422T203351
CREATED:20220507T003139Z
LAST-MODIFIED:20220507T003139Z
UID:2374-1652121000-1652124600@victoriaautism.ca
SUMMARY:Minecraft Game Night
DESCRIPTION:Hang out\, explore\, and play some minecraft games with others in the Victoria Autism group. Please register for a free ticket on Eventbrite so that we can send you the google meet and minecraft server details. \n If you would like tech support please feel free to email us prior to the event at support@victoriaautism.com \n***To maintain a safe\, fun\, and inclusive environment for all ages\, words that attack such as “stupid\, dumb\, mental\,” etc. will NOT be tolerated in the chat. Use of hurtful or unkind language will lead to removal from the meeting. We want all of our members and friends to be able to enjoy this social event\, so please be considerate.
URL:https://victoriaautism.ca/event/minecraft-game-night-4/
ATTACH;FMTTYPE=image/jpeg:https://victoriaautism.ca/wp-content/uploads/2021/06/SS_MC1.jpg
END:VEVENT
BEGIN:VEVENT
DTSTART;TZID=America/Vancouver:20220425T163000
DTEND;TZID=America/Vancouver:20220425T173000
DTSTAMP:20260422T203351
CREATED:20220112T034700Z
LAST-MODIFIED:20220507T002840Z
UID:2267-1650904200-1650907800@victoriaautism.ca
SUMMARY:Online Game Night
DESCRIPTION:Join VSCA kids and friends for a virtual game night!
URL:https://victoriaautism.ca/event/online-game-night-4/
ATTACH;FMTTYPE=image/jpeg:https://victoriaautism.ca/wp-content/uploads/2020/08/jeshoots-com-eCktzGjC-iU-unsplash-1-scaled.jpg
END:VEVENT
BEGIN:VEVENT
DTSTART;TZID=America/Vancouver:20220421T190000
DTEND;TZID=America/Vancouver:20220421T203000
DTSTAMP:20260422T203351
CREATED:20220104T022833Z
LAST-MODIFIED:20220104T022833Z
UID:2239-1650567600-1650573000@victoriaautism.ca
SUMMARY:Parents' Coffee Night
DESCRIPTION:Join us at our virtual coffee night to connect with other caregivers to autistic children. This is an opportunity for parents and caregivers to come together as a community\, trade stories and tips\, and provide support and encouragement for one another. Register in advance on EventBrite to receive the meeting link.
URL:https://victoriaautism.ca/event/parents-coffee-night-15/
ATTACH;FMTTYPE=image/jpeg:https://victoriaautism.ca/wp-content/uploads/2021/01/coffeevirtual.jpeg
END:VEVENT
BEGIN:VEVENT
DTSTART;TZID=UTC:20220413T183000
DTEND;TZID=UTC:20220413T193000
DTSTAMP:20260422T203351
CREATED:20220330T161334Z
LAST-MODIFIED:20220330T161506Z
UID:2349-1649874600-1649878200@victoriaautism.ca
SUMMARY:Craft Night with Aryn Franklin
DESCRIPTION:Join VSCA and friends for an evening of guided crafting! \nRegister for your free ticket on Eventbrite.
URL:https://victoriaautism.ca/event/craft-night-with-aryn-franklin-4/
ATTACH;FMTTYPE=image/jpeg:https://victoriaautism.ca/wp-content/uploads/2021/07/sigmund-TJxotQTUr8o-unsplash.jpg
END:VEVENT
BEGIN:VEVENT
DTSTART;TZID=America/Vancouver:20220411T163000
DTEND;TZID=America/Vancouver:20220411T173000
DTSTAMP:20260422T203351
CREATED:20220112T032411Z
LAST-MODIFIED:20220127T022708Z
UID:2261-1649694600-1649698200@victoriaautism.ca
SUMMARY:Minecraft Game Night
DESCRIPTION:Hang out\, explore\, and play some minecraft games with others in the Victoria Autism group. Please register for a free ticket on Eventbrite so that we can send you the google meet and minecraft server details. \n If you would like tech support please feel free to email us prior to the event at support@victoriaautism.com \n***To maintain a safe\, fun\, and inclusive environment for all ages\, words that attack such as “stupid\, dumb\, mental\, etc.” will NOT be tolerated in the chat. Use of hurtful or unkind language will lead to removal from the meeting. We want all of our members and friends to be able to enjoy this social event\, so please be considerate.
URL:https://victoriaautism.ca/event/minecraft-game-night-3/
ATTACH;FMTTYPE=image/jpeg:https://victoriaautism.ca/wp-content/uploads/2020/12/minecraft2.jpg
END:VEVENT
BEGIN:VEVENT
DTSTART;TZID=UTC:20220324T150000
DTEND;TZID=UTC:20220324T180000
DTSTAMP:20260422T203351
CREATED:20220305T175113Z
LAST-MODIFIED:20220305T175113Z
UID:2336-1648134000-1648144800@victoriaautism.ca
SUMMARY:March Library Day
DESCRIPTION:Reserve your slot to visit the Resource Library! Click here to check out our catalogue.
URL:https://victoriaautism.ca/event/march-library-day/
ATTACH;FMTTYPE=image/jpeg:https://victoriaautism.ca/wp-content/uploads/2021/10/matthew-feeney-Nwkh-n6l25w-unsplash-1.jpg
END:VEVENT
END:VCALENDAR