BEGIN:VCALENDAR
VERSION:2.0
PRODID:-//Victoria Society for Children with Autism - ECPv6.15.20//NONSGML v1.0//EN
CALSCALE:GREGORIAN
METHOD:PUBLISH
X-ORIGINAL-URL:https://victoriaautism.ca
X-WR-CALDESC:Events for Victoria Society for Children with Autism
REFRESH-INTERVAL;VALUE=DURATION:PT1H
X-Robots-Tag:noindex
X-PUBLISHED-TTL:PT1H
BEGIN:VTIMEZONE
TZID:America/Vancouver
BEGIN:DAYLIGHT
TZOFFSETFROM:-0800
TZOFFSETTO:-0700
TZNAME:PDT
DTSTART:20200308T100000
END:DAYLIGHT
BEGIN:STANDARD
TZOFFSETFROM:-0700
TZOFFSETTO:-0800
TZNAME:PST
DTSTART:20201101T090000
END:STANDARD
BEGIN:DAYLIGHT
TZOFFSETFROM:-0800
TZOFFSETTO:-0700
TZNAME:PDT
DTSTART:20210314T100000
END:DAYLIGHT
BEGIN:STANDARD
TZOFFSETFROM:-0700
TZOFFSETTO:-0800
TZNAME:PST
DTSTART:20211107T090000
END:STANDARD
BEGIN:DAYLIGHT
TZOFFSETFROM:-0800
TZOFFSETTO:-0700
TZNAME:PDT
DTSTART:20220313T100000
END:DAYLIGHT
BEGIN:STANDARD
TZOFFSETFROM:-0700
TZOFFSETTO:-0800
TZNAME:PST
DTSTART:20221106T090000
END:STANDARD
BEGIN:DAYLIGHT
TZOFFSETFROM:-0800
TZOFFSETTO:-0700
TZNAME:PDT
DTSTART:20230312T100000
END:DAYLIGHT
BEGIN:STANDARD
TZOFFSETFROM:-0700
TZOFFSETTO:-0800
TZNAME:PST
DTSTART:20231105T090000
END:STANDARD
END:VTIMEZONE
BEGIN:VTIMEZONE
TZID:UTC
BEGIN:STANDARD
TZOFFSETFROM:+0000
TZOFFSETTO:+0000
TZNAME:UTC
DTSTART:20210101T000000
END:STANDARD
END:VTIMEZONE
BEGIN:VEVENT
DTSTART;TZID=America/Vancouver:20220615T183000
DTEND;TZID=America/Vancouver:20220615T193000
DTSTAMP:20260418T022102
CREATED:20220531T182138Z
LAST-MODIFIED:20220531T182138Z
UID:2395-1655317800-1655321400@victoriaautism.ca
SUMMARY:Craft Night with Aryn Franklin
DESCRIPTION:Join VSCA and friends for an evening of guided crafting! \nRegister for your free ticket on Eventbrite.
URL:https://victoriaautism.ca/event/craft-night-with-aryn-franklin-5/
ATTACH;FMTTYPE=image/jpeg:https://victoriaautism.ca/wp-content/uploads/2020/04/photo-1453749024858-4bca89bd9edc.jpg
END:VEVENT
BEGIN:VEVENT
DTSTART;TZID=America/Vancouver:20220606T183000
DTEND;TZID=America/Vancouver:20220606T193000
DTSTAMP:20260418T022102
CREATED:20220531T180329Z
LAST-MODIFIED:20220531T180329Z
UID:2385-1654540200-1654543800@victoriaautism.ca
SUMMARY:Victoria Autism Minecraft Game Night
DESCRIPTION:Hang out\, explore\, and play some minecraft games with others in the Victoria Autism group. Please register for a free ticket on Eventbrite so that we can send you the google meet and minecraft server details.  \nIf you would like tech support please feel free to email us prior to the event at support@victoriaautism.com  \n***To maintain a safe\, fun\, and inclusive environment for all ages\, words that attack such as “stupid\, dumb\, mental\, etc.” will NOT be tolerated in the chat. Use of hurtful or unkind language will lead to removal from the meeting. We want all of our members and friends to be able to enjoy this social event\, so please be considerate.
URL:https://victoriaautism.ca/event/victoria-autism-minecraft-game-night/
ATTACH;FMTTYPE=image/jpeg:https://victoriaautism.ca/wp-content/uploads/2021/06/SS_MC1.jpg
END:VEVENT
BEGIN:VEVENT
DTSTART;TZID=UTC:20220526T183000
DTEND;TZID=UTC:20220526T200000
DTSTAMP:20260418T022102
CREATED:20220506T212927Z
LAST-MODIFIED:20220506T220431Z
UID:2363-1653589800-1653595200@victoriaautism.ca
SUMMARY:Victoria Autism Parents' Picnic
DESCRIPTION:Get together with VSCA parents and members for a Spring picnic! This is a free social event aimed at building community among parents and caregivers to autistic children. Food will be provided. Please bring your own chair or blanket. \n  \nPlease note that as this is part of our parent support series\, topics of discussion may not be appropriate for children.
URL:https://victoriaautism.ca/event/victoria-autism-parents-picnic/
LOCATION:Rutledge Park\, 933 Inverness Rd\, Victoria\, BC\, V8X\, Canada
ATTACH;FMTTYPE=image/png:https://victoriaautism.ca/wp-content/uploads/2021/08/lawnchairs.png
END:VEVENT
BEGIN:VEVENT
DTSTART;TZID=America/Vancouver:20220523T183000
DTEND;TZID=America/Vancouver:20220523T193000
DTSTAMP:20260418T022102
CREATED:20220507T003413Z
LAST-MODIFIED:20220507T003413Z
UID:2377-1653330600-1653334200@victoriaautism.ca
SUMMARY:Online Game Night
DESCRIPTION:Join VSCA kids and friends for a virtual game night!
URL:https://victoriaautism.ca/event/online-game-night-2/
ATTACH;FMTTYPE=image/jpeg:https://victoriaautism.ca/wp-content/uploads/2020/08/jeshoots-com-eCktzGjC-iU-unsplash-1-scaled.jpg
END:VEVENT
BEGIN:VEVENT
DTSTART;TZID=America/Vancouver:20220509T183000
DTEND;TZID=America/Vancouver:20220509T193000
DTSTAMP:20260418T022102
CREATED:20220507T003139Z
LAST-MODIFIED:20220507T003139Z
UID:2374-1652121000-1652124600@victoriaautism.ca
SUMMARY:Minecraft Game Night
DESCRIPTION:Hang out\, explore\, and play some minecraft games with others in the Victoria Autism group. Please register for a free ticket on Eventbrite so that we can send you the google meet and minecraft server details. \n If you would like tech support please feel free to email us prior to the event at support@victoriaautism.com \n***To maintain a safe\, fun\, and inclusive environment for all ages\, words that attack such as “stupid\, dumb\, mental\,” etc. will NOT be tolerated in the chat. Use of hurtful or unkind language will lead to removal from the meeting. We want all of our members and friends to be able to enjoy this social event\, so please be considerate.
URL:https://victoriaautism.ca/event/minecraft-game-night-4/
ATTACH;FMTTYPE=image/jpeg:https://victoriaautism.ca/wp-content/uploads/2021/06/SS_MC1.jpg
END:VEVENT
BEGIN:VEVENT
DTSTART;TZID=America/Vancouver:20220425T163000
DTEND;TZID=America/Vancouver:20220425T173000
DTSTAMP:20260418T022102
CREATED:20220112T034700Z
LAST-MODIFIED:20220507T002840Z
UID:2267-1650904200-1650907800@victoriaautism.ca
SUMMARY:Online Game Night
DESCRIPTION:Join VSCA kids and friends for a virtual game night!
URL:https://victoriaautism.ca/event/online-game-night-4/
ATTACH;FMTTYPE=image/jpeg:https://victoriaautism.ca/wp-content/uploads/2020/08/jeshoots-com-eCktzGjC-iU-unsplash-1-scaled.jpg
END:VEVENT
BEGIN:VEVENT
DTSTART;TZID=America/Vancouver:20220421T190000
DTEND;TZID=America/Vancouver:20220421T203000
DTSTAMP:20260418T022102
CREATED:20220104T022833Z
LAST-MODIFIED:20220104T022833Z
UID:2239-1650567600-1650573000@victoriaautism.ca
SUMMARY:Parents' Coffee Night
DESCRIPTION:Join us at our virtual coffee night to connect with other caregivers to autistic children. This is an opportunity for parents and caregivers to come together as a community\, trade stories and tips\, and provide support and encouragement for one another. Register in advance on EventBrite to receive the meeting link.
URL:https://victoriaautism.ca/event/parents-coffee-night-15/
ATTACH;FMTTYPE=image/jpeg:https://victoriaautism.ca/wp-content/uploads/2021/01/coffeevirtual.jpeg
END:VEVENT
BEGIN:VEVENT
DTSTART;TZID=UTC:20220413T183000
DTEND;TZID=UTC:20220413T193000
DTSTAMP:20260418T022102
CREATED:20220330T161334Z
LAST-MODIFIED:20220330T161506Z
UID:2349-1649874600-1649878200@victoriaautism.ca
SUMMARY:Craft Night with Aryn Franklin
DESCRIPTION:Join VSCA and friends for an evening of guided crafting! \nRegister for your free ticket on Eventbrite.
URL:https://victoriaautism.ca/event/craft-night-with-aryn-franklin-4/
ATTACH;FMTTYPE=image/jpeg:https://victoriaautism.ca/wp-content/uploads/2021/07/sigmund-TJxotQTUr8o-unsplash.jpg
END:VEVENT
BEGIN:VEVENT
DTSTART;TZID=America/Vancouver:20220411T163000
DTEND;TZID=America/Vancouver:20220411T173000
DTSTAMP:20260418T022102
CREATED:20220112T032411Z
LAST-MODIFIED:20220127T022708Z
UID:2261-1649694600-1649698200@victoriaautism.ca
SUMMARY:Minecraft Game Night
DESCRIPTION:Hang out\, explore\, and play some minecraft games with others in the Victoria Autism group. Please register for a free ticket on Eventbrite so that we can send you the google meet and minecraft server details. \n If you would like tech support please feel free to email us prior to the event at support@victoriaautism.com \n***To maintain a safe\, fun\, and inclusive environment for all ages\, words that attack such as “stupid\, dumb\, mental\, etc.” will NOT be tolerated in the chat. Use of hurtful or unkind language will lead to removal from the meeting. We want all of our members and friends to be able to enjoy this social event\, so please be considerate.
URL:https://victoriaautism.ca/event/minecraft-game-night-3/
ATTACH;FMTTYPE=image/jpeg:https://victoriaautism.ca/wp-content/uploads/2020/12/minecraft2.jpg
END:VEVENT
BEGIN:VEVENT
DTSTART;TZID=UTC:20220324T150000
DTEND;TZID=UTC:20220324T180000
DTSTAMP:20260418T022102
CREATED:20220305T175113Z
LAST-MODIFIED:20220305T175113Z
UID:2336-1648134000-1648144800@victoriaautism.ca
SUMMARY:March Library Day
DESCRIPTION:Reserve your slot to visit the Resource Library! Click here to check out our catalogue.
URL:https://victoriaautism.ca/event/march-library-day/
ATTACH;FMTTYPE=image/jpeg:https://victoriaautism.ca/wp-content/uploads/2021/10/matthew-feeney-Nwkh-n6l25w-unsplash-1.jpg
END:VEVENT
BEGIN:VEVENT
DTSTART;TZID=UTC:20220320T080000
DTEND;TZID=UTC:20220320T170000
DTSTAMP:20260418T022102
CREATED:20220305T232416Z
LAST-MODIFIED:20220305T232438Z
UID:2338-1647763200-1647795600@victoriaautism.ca
SUMMARY:Spring Respite Applications
DESCRIPTION:Applications for Spring Respite Funding will be open to VSCA members until March 20th. Click here to visit the application page. Need to register in our online system? Click here. Having Technical Difficulties? Email us at support@victoriaautism.com
URL:https://victoriaautism.ca/event/spring-respite-applications/
ATTACH;FMTTYPE=image/jpeg:https://victoriaautism.ca/wp-content/uploads/2022/03/ben-wicks-iDCtsz-INHI-unsplash.jpg
END:VEVENT
BEGIN:VEVENT
DTSTART;TZID=America/Vancouver:20220317T190000
DTEND;TZID=America/Vancouver:20220317T203000
DTSTAMP:20260418T022102
CREATED:20220104T022256Z
LAST-MODIFIED:20220104T022256Z
UID:2237-1647543600-1647549000@victoriaautism.ca
SUMMARY:Parents' Coffee Night
DESCRIPTION:Join us at our virtual coffee night to connect with other caregivers to autistic children. This is an opportunity for parents and caregivers to come together as a community\, trade stories and tips\, and provide support and encouragement for one another. Register in advance on EventBrite to receive the meeting link.
URL:https://victoriaautism.ca/event/parents-coffee-night-14/
ATTACH;FMTTYPE=image/jpeg:https://victoriaautism.ca/wp-content/uploads/2021/06/CR_unsplash_300.jpg
END:VEVENT
BEGIN:VEVENT
DTSTART;TZID=America/Vancouver:20220314T163000
DTEND;TZID=America/Vancouver:20220314T173000
DTSTAMP:20260418T022102
CREATED:20220112T030949Z
LAST-MODIFIED:20220127T022654Z
UID:2257-1647275400-1647279000@victoriaautism.ca
SUMMARY:Minecraft Game Night
DESCRIPTION:Hang out\, explore\, and play some minecraft games with others in the Victoria Autism group. Please register for a free ticket on Eventbrite so that we can send you the google meet and minecraft server details. \n If you would like tech support please feel free to email us prior to the event at support@victoriaautism.com \n***To maintain a safe\, fun\, and inclusive environment for all ages\, words that attack such as “stupid\, dumb\, mental\, etc.” will NOT be tolerated in the chat. Use of hurtful or unkind language will lead to removal from the meeting. We want all of our members and friends to be able to enjoy this social event\, so please be considerate.
URL:https://victoriaautism.ca/event/minecraft-game-night-2/
ATTACH;FMTTYPE=image/jpeg:https://victoriaautism.ca/wp-content/uploads/2020/12/minecraft2.jpg
END:VEVENT
BEGIN:VEVENT
DTSTART;TZID=America/Vancouver:20220228T163000
DTEND;TZID=America/Vancouver:20220228T173000
DTSTAMP:20260418T022102
CREATED:20220112T030706Z
LAST-MODIFIED:20220127T022515Z
UID:2255-1646065800-1646069400@victoriaautism.ca
SUMMARY:Minecraft Game Night
DESCRIPTION:Hang out\, explore\, and play some minecraft games with others in the Victoria Autism group. Please register for a free ticket on Eventbrite so that we can send you the google meet and minecraft server details. \n If you would like tech support please feel free to email us prior to the event at support@victoriaautism.com \n***To maintain a safe\, fun\, and inclusive environment for all ages\, words that attack such as “stupid\, dumb\, mental\, etc.” will NOT be tolerated in the chat. Use of hurtful or unkind language will lead to removal from the meeting. We want all of our members and friends to be able to enjoy this social event\, so please be considerate.
URL:https://victoriaautism.ca/event/minecraft-game-night/
ATTACH;FMTTYPE=image/jpeg:https://victoriaautism.ca/wp-content/uploads/2021/01/minecraft-event.jpeg
END:VEVENT
BEGIN:VEVENT
DTSTART;TZID=America/Vancouver:20220217T190000
DTEND;TZID=America/Vancouver:20220217T203000
DTSTAMP:20260418T022102
CREATED:20220104T022122Z
LAST-MODIFIED:20220104T022122Z
UID:2235-1645124400-1645129800@victoriaautism.ca
SUMMARY:Parents' Coffee Night
DESCRIPTION:Join us at our virtual coffee night to connect with other caregivers to autistic children. This is an opportunity for parents and caregivers to come together as a community\, trade stories and tips\, and provide support and encouragement for one another. Register in advance on EventBrite to receive the meeting link.
URL:https://victoriaautism.ca/event/parents-coffee-night-13/
ATTACH;FMTTYPE=image/jpeg:https://victoriaautism.ca/wp-content/uploads/2021/06/CR_unsplash_300.jpg
END:VEVENT
BEGIN:VEVENT
DTSTART;TZID=America/Vancouver:20220208T183000
DTEND;TZID=America/Vancouver:20220208T193000
DTSTAMP:20260418T022102
CREATED:20220128T011338Z
LAST-MODIFIED:20220128T011516Z
UID:2292-1644345000-1644348600@victoriaautism.ca
SUMMARY:Valentines Craft Night
DESCRIPTION:Speech Pathologist Aryn Franklin will be leading us in a Valentine-themed craft using her “Get Ready\, Do\, Done!” strategy. Register on eventbrite to receive your free supply kit. 
URL:https://victoriaautism.ca/event/valentines-craft-night/
ATTACH;FMTTYPE=image/jpeg:https://victoriaautism.ca/wp-content/uploads/2021/07/sigmund-TJxotQTUr8o-unsplash.jpg
END:VEVENT
BEGIN:VEVENT
DTSTART;TZID=America/Vancouver:20220127T180000
DTEND;TZID=America/Vancouver:20220127T190000
DTSTAMP:20260418T022102
CREATED:20220110T235105Z
LAST-MODIFIED:20220110T235105Z
UID:2250-1643306400-1643310000@victoriaautism.ca
SUMMARY:Virtual In-House Scavenger Hunt
DESCRIPTION:Join us for a no fuss in-house scavenger hunt. Open to kids and families of all ages\, participants will look for everyday items that will be easy to find at home.
URL:https://victoriaautism.ca/event/virtual-in-house-scavenger-hunt/
ATTACH;FMTTYPE=image/jpeg:https://victoriaautism.ca/wp-content/uploads/2022/01/agence-olloweb-d9ILr-dbEdg-unsplash.jpg
END:VEVENT
BEGIN:VEVENT
DTSTART;TZID=America/Vancouver:20220124T163000
DTEND;TZID=America/Vancouver:20220124T173000
DTSTAMP:20260418T022102
CREATED:20220110T235343Z
LAST-MODIFIED:20220124T232124Z
UID:2253-1643041800-1643045400@victoriaautism.ca
SUMMARY:Online Game Night
DESCRIPTION:Join VSCA kids and friends for a virtual game night!
URL:https://victoriaautism.ca/event/online-game-night/
ATTACH;FMTTYPE=image/jpeg:https://victoriaautism.ca/wp-content/uploads/2021/06/third-serving-0DF7DuMrI9k-unsplash.jpg
END:VEVENT
BEGIN:VEVENT
DTSTART;TZID=America/Vancouver:20220120T190000
DTEND;TZID=America/Vancouver:20220120T203000
DTSTAMP:20260418T022102
CREATED:20220104T021559Z
LAST-MODIFIED:20220104T021559Z
UID:2233-1642705200-1642710600@victoriaautism.ca
SUMMARY:Parents' Coffee Night
DESCRIPTION:Join us at our virtual coffee night to connect with other caregivers to autistic children. This is an opportunity for parents and caregivers to come together as a community\, trade stories and tips\, and provide support and encouragement for one another. Register in advance on EventBrite to receive the meeting link.
URL:https://victoriaautism.ca/event/parents-coffee-night-12/
ATTACH;FMTTYPE=image/jpeg:https://victoriaautism.ca/wp-content/uploads/2021/06/CR_unsplash_300.jpg
END:VEVENT
BEGIN:VEVENT
DTSTART;TZID=America/Vancouver:20220110T160000
DTEND;TZID=America/Vancouver:20220110T170000
DTSTAMP:20260418T022102
CREATED:20220110T234056Z
LAST-MODIFIED:20220110T234056Z
UID:2248-1641830400-1641834000@victoriaautism.ca
SUMMARY:Minecraft Game Group
DESCRIPTION:Join us online to explore and build together on our Minecraft server!
URL:https://victoriaautism.ca/event/minecraft-game-group/
ATTACH;FMTTYPE=image/jpeg:https://victoriaautism.ca/wp-content/uploads/2021/01/minecraft2-scaled.jpg
END:VEVENT
BEGIN:VEVENT
DTSTART;TZID=America/Vancouver:20211226T190000
DTEND;TZID=America/Vancouver:20211226T190000
DTSTAMP:20260418T022102
CREATED:20211109T190401Z
LAST-MODIFIED:20211202T011341Z
UID:2196-1640545200-1640545200@victoriaautism.ca
SUMMARY:Winter Respite Funding Available
DESCRIPTION:Please make an application for our winter respite funding program (CLICK HERE). The funds provided can be used to provide a respite for families\, a recreation opportunity for autistic children and teens or to help fund equipment or other needs of the autistic individual. \nThis program is open to VSCA members with autistic children or teenagers. VSCA membership is free and can be applied for on our website(CLICK HERE).
URL:https://victoriaautism.ca/event/winter-respite-funding-available/
ATTACH;FMTTYPE=image/jpeg:https://victoriaautism.ca/wp-content/uploads/2016/04/christmasrespite.jpg
END:VEVENT
BEGIN:VEVENT
DTSTART;TZID=America/Vancouver:20211223T160000
DTEND;TZID=America/Vancouver:20211223T173000
DTSTAMP:20260418T022102
CREATED:20211203T044453Z
LAST-MODIFIED:20211203T044453Z
UID:2220-1640275200-1640280600@victoriaautism.ca
SUMMARY:Game Night: Roblox
DESCRIPTION:Join us on Friday to play Roblox with other VSCA kids! Invite your friends\, bring a snack\, and let’s hang out together!
URL:https://victoriaautism.ca/event/game-night-roblox/
ATTACH;FMTTYPE=image/jpeg:https://victoriaautism.ca/wp-content/uploads/2021/01/minecraft3.jpeg
END:VEVENT
BEGIN:VEVENT
DTSTART;TZID=America/Vancouver:20211221T150000
DTEND;TZID=America/Vancouver:20211221T180000
DTSTAMP:20260418T022102
CREATED:20211203T043544Z
LAST-MODIFIED:20211203T043544Z
UID:2218-1640098800-1640109600@victoriaautism.ca
SUMMARY:December Library Opening
DESCRIPTION:The VSCA library will be open for loans and returns. Book your time slot in advance on EventBrite\, and our friendly staff will be happy to help you! Our catalogue can be viewed here.
URL:https://victoriaautism.ca/event/december-library-opening-2/
ATTACH;FMTTYPE=image/jpeg:https://victoriaautism.ca/wp-content/uploads/2021/10/matthew-feeney-Nwkh-n6l25w-unsplash-1.jpg
END:VEVENT
BEGIN:VEVENT
DTSTART;TZID=America/Vancouver:20211216T190000
DTEND;TZID=America/Vancouver:20211216T203000
DTSTAMP:20260418T022102
CREATED:20210603T230921Z
LAST-MODIFIED:20210603T230921Z
UID:1978-1639681200-1639686600@victoriaautism.ca
SUMMARY:Parents Coffee Night
DESCRIPTION:Join us at our virtual coffee night to connect with other caregivers to autistic children. This is an opportunity for parents and caregivers to come together as a community\, trade stories and tips\, and provide support and encouragement for one another. Register in advance on EventBrite to receive the meeting link.
URL:https://victoriaautism.ca/event/parents-coffee-night-11/
ATTACH;FMTTYPE=image/jpeg:https://victoriaautism.ca/wp-content/uploads/2021/06/CR_unsplash_300.jpg
END:VEVENT
BEGIN:VEVENT
DTSTART;TZID=America/Vancouver:20211214T183000
DTEND;TZID=America/Vancouver:20211214T193000
DTSTAMP:20260418T022102
CREATED:20211202T033139Z
LAST-MODIFIED:20211202T033139Z
UID:2212-1639506600-1639510200@victoriaautism.ca
SUMMARY:Holiday Craft with Aryn Franklin
DESCRIPTION:Join VSCA and friends on Zoom to craft wooden holiday ornaments! Register on EventBrite to receive your supplies.
URL:https://victoriaautism.ca/event/holiday-craft-with-aryn-franklin/
ATTACH;FMTTYPE=image/jpeg:https://victoriaautism.ca/wp-content/uploads/2021/12/snowman-ornament-diy.jpg
END:VEVENT
BEGIN:VEVENT
DTSTART;TZID=America/Vancouver:20211210T160000
DTEND;TZID=America/Vancouver:20211210T173000
DTSTAMP:20260418T022102
CREATED:20211011T042635Z
LAST-MODIFIED:20211011T042635Z
UID:2180-1639152000-1639157400@victoriaautism.ca
SUMMARY:Minecraft Afternoon
DESCRIPTION:Hang out\, explore\, and play some minecraft games with others in the Victoria Autism group. Please register for a free ticket on Eventbrite so that we can send you the google meet and minecraft server details. \n If you would like tech support please feel free to email us prior to the event at support@victoriaautism.com \n***To maintain a safe\, fun\, and inclusive environment for all ages\, words that attack such as “stupid\, dumb\, mental\, etc.” will NOT be tolerated in the chat. Use of hurtful or unkind language will lead to removal from the meeting. We want all of our members and friends to be able to enjoy this social event\, so please be considerate.
URL:https://victoriaautism.ca/event/minecraft-afternoon-14/
ATTACH;FMTTYPE=image/jpeg:https://victoriaautism.ca/wp-content/uploads/2021/01/minecraft-event.jpeg
END:VEVENT
BEGIN:VEVENT
DTSTART;TZID=America/Vancouver:20211126T160000
DTEND;TZID=America/Vancouver:20211126T173000
DTSTAMP:20260418T022102
CREATED:20211011T040302Z
LAST-MODIFIED:20211011T042030Z
UID:2174-1637942400-1637947800@victoriaautism.ca
SUMMARY:Among Us Game Night
DESCRIPTION:Join us on Friday to play Among Us with other VSCA kids! Invite your friends\, bring some snacks\, and let’s hang out together!
URL:https://victoriaautism.ca/event/among-us-game-night-4/
ATTACH;FMTTYPE=image/jpeg:https://victoriaautism.ca/wp-content/uploads/2021/01/among-us.jpg
END:VEVENT
BEGIN:VEVENT
DTSTART;TZID=America/Vancouver:20211120T130000
DTEND;TZID=America/Vancouver:20211120T133000
DTSTAMP:20260418T022102
CREATED:20211111T051859Z
LAST-MODIFIED:20211111T051859Z
UID:2203-1637413200-1637415000@victoriaautism.ca
SUMMARY:Beginner's Piano Workshop - Learn by Ear!
DESCRIPTION:Join Noelle Burch and VSCA for a beginner’s piano lesson. Participants will learn Billie Eilish’s Ocean Eyes by ear. Open to ages 6 and up\, no experience necessary\, keyboard access required. Additional supplies will be delivered in advance of the event.
URL:https://victoriaautism.ca/event/beginners-piano-workshop-learn-by-ear/
ATTACH;FMTTYPE=image/jpeg:https://victoriaautism.ca/wp-content/uploads/2021/11/paige-cody-7kck7rSl_Bo-unsplash.jpg
END:VEVENT
BEGIN:VEVENT
DTSTART;TZID=America/Vancouver:20211118T190000
DTEND;TZID=America/Vancouver:20211118T203000
DTSTAMP:20260418T022102
CREATED:20210603T230746Z
LAST-MODIFIED:20210603T230746Z
UID:1976-1637262000-1637267400@victoriaautism.ca
SUMMARY:Parents' Coffee Night
DESCRIPTION:Join us at our virtual coffee night to connect with other caregivers to autistic children. This is an opportunity for parents and caregivers to come together as a community\, trade stories and tips\, and provide support and encouragement for one another. Register in advance on EventBrite to receive the meeting link.
URL:https://victoriaautism.ca/event/parents-coffee-night-10/
ATTACH;FMTTYPE=image/jpeg:https://victoriaautism.ca/wp-content/uploads/2021/06/CR_unsplash_300.jpg
END:VEVENT
BEGIN:VEVENT
DTSTART;TZID=America/Vancouver:20211112T160000
DTEND;TZID=America/Vancouver:20211112T173000
DTSTAMP:20260418T022102
CREATED:20211011T040602Z
LAST-MODIFIED:20211011T041332Z
UID:2176-1636732800-1636738200@victoriaautism.ca
SUMMARY:Minecraft Afternoon
DESCRIPTION:Hang out\, explore\, and play some minecraft games with others in the Victoria Autism group. Please register for a free ticket on Eventbrite so that we can send you the google meet and minecraft server details. \n If you would like tech support please feel free to email us prior to the event at support@victoriaautism.com \n***To maintain a safe\, fun\, and inclusive environment for all ages\, words that attack such as “stupid\, dumb\, mental\, etc.” will NOT be tolerated in the chat. Use of hurtful or unkind language will lead to removal from the meeting. We want all of our members and friends to be able to enjoy this social event\, so please be considerate.
URL:https://victoriaautism.ca/event/minecraft-afternoon-13/
ATTACH;FMTTYPE=image/jpeg:https://victoriaautism.ca/wp-content/uploads/2020/12/minecraft2.jpg
END:VEVENT
END:VCALENDAR